BEGIN:VCALENDAR
VERSION:2.0
PRODID:-//UNIVERSITY OF TEXAS SCHOOL OF LAW//NONSGML Events Calendar v1.0//EN
X-WR-CALNAME:Texas Law - Events Calendar - Breakfast Events
X-WR-TIMEZONE:America/Chicago
BEGIN:VTIMEZONE
TZID:US/Central
X-LIC-LOCATION:America/Chicago
BEGIN:DAYLIGHT
TZOFFSETFROM:-0600
TZOFFSETTO:-0500
TZNAME:CDT
DTSTART:19700308T020000
RRULE:FREQ=YEARLY;BYMONTH=3;BYDAY=2SU
END:DAYLIGHT
BEGIN:STANDARD
TZOFFSETFROM:-0500
TZOFFSETTO:-0600
TZNAME:CST
DTSTART:19701101T020000
RRULE:FREQ=YEARLY;BYMONTH=11;BYDAY=1SU
END:STANDARD
END:VTIMEZONE
BEGIN:VEVENT
DTSTART;VALUE=DATE-TIME;TZID=US/Central:20260422T083000
DTEND;VALUE=DATE-TIME;TZID=US/Central:20260422T103000
DTSTAMP:20260419T120600Z
CREATED:20260414T191200Z
LAST-MODIFIED:20260414T191200Z
UID:20260422T083000-88278@law.utexas.edu
SUMMARY:Mayer Brown | 1L Meet-and-Greet
DESCRIPTION:<p>1Ls: Stop by to meet recruiters from Mayer Brown to learn
  more about their firm and grab breakfast.</p>If you need an accommodation
  to participate in this event, please contact the event sponsor or the
  Texas Law Special Events Office at specialevents@law.utexas.edu no later
  than seven business days prior to the event.
X-ALT-DESC;FMTTYPE=text/html:<p>1Ls: Stop by to meet recruiters from
  Mayer Brown to learn more about their firm and grab breakfast.</p><p>If
  you need an accommodation to participate in this event, please contact
  the
                                          event sponsor or the Texas
  Law Special Events Office at <a
  href="mailto:specialevents@law.utexas.edu">specialevents@law.utexas.edu</
  a> no later than seven business days prior to the event.</p>
LOCATION: PATMAN - Patman Family Plaza
URL:https://law.utexas.edu/calendar/2026/04/22/88278/
CLASS:PUBLIC
STATUS:CONFIRMED
END:VEVENT
END:VCALENDAR