BEGIN:VCALENDAR
VERSION:2.0
PRODID:-//UNIVERSITY OF TEXAS SCHOOL OF LAW//NONSGML Events Calendar v1.0//EN
X-WR-CALNAME:Texas Law - Events Calendar - Workshop / Training Program Events
X-WR-TIMEZONE:America/Chicago
BEGIN:VTIMEZONE
TZID:US/Central
X-LIC-LOCATION:America/Chicago
BEGIN:DAYLIGHT
TZOFFSETFROM:-0600
TZOFFSETTO:-0500
TZNAME:CDT
DTSTART:19700308T020000
RRULE:FREQ=YEARLY;BYMONTH=3;BYDAY=2SU
END:DAYLIGHT
BEGIN:STANDARD
TZOFFSETFROM:-0500
TZOFFSETTO:-0600
TZNAME:CST
DTSTART:19701101T020000
RRULE:FREQ=YEARLY;BYMONTH=11;BYDAY=1SU
END:STANDARD
END:VTIMEZONE
BEGIN:VEVENT
DTSTART;VALUE=DATE;TZID=US/Central:20260527
DTEND;VALUE=DATE;TZID=US/Central:20260528
X-MICROSOFT-CDO-ALLDAYEVENT:TRUE
X-FUNAMBOL-ALLDAY:TRUE
DTSTAMP:20260419T120600Z
CREATED:20260212T214800Z
LAST-MODIFIED:20260212T214800Z
UID:20260527T000000-86822@law.utexas.edu
SUMMARY:Workshop on Empirical Methods in IP
DESCRIPTION:<p>The 2026 Workshop on Empirical Methods in Intellectual
  Property is co-sponsored by Duke Law\, Northwestern Pritzker School of
  Law\, and the University of Texas Law School.   This conference combines
  two established events—the original Workshop on Empirical Methods in
  Intellectual Property and the Empirical IP Conference—into a single\,
  unified gathering under the Workshop’s name.</p>If you need an
  accommodation to participate in this event, please contact the event
  sponsor or the Texas Law Special Events Office at
  specialevents@law.utexas.edu no later than seven business days prior to
  the event.
X-ALT-DESC;FMTTYPE=text/html:<p>The 2026 Workshop on Empirical Methods in
  Intellectual Property is co-sponsored by Duke Law\, Northwestern Pritzker
  School of Law\, and the University of Texas Law School.   This conference
  combines two established events—the original Workshop on Empirical
  Methods in Intellectual Property and the Empirical IP Conference—into a
  single\, unified gathering under the Workshop’s name.</p><p>If you need
  an accommodation to participate in this event, please contact the
                                  event sponsor or the Texas Law Special
  Events Office at <a
  href="mailto:specialevents@law.utexas.edu">specialevents@law.utexas.edu</
  a> no later than seven business days prior to the event.</p>
LOCATION:TNH 2.111 - Sheffield-Massey Room
URL:https://law.utexas.edu/calendar/2026/05/27/86822/
CLASS:PRIVATE
STATUS:CONFIRMED
END:VEVENT
BEGIN:VEVENT
DTSTART;VALUE=DATE;TZID=US/Central:20260528
DTEND;VALUE=DATE;TZID=US/Central:20260529
X-MICROSOFT-CDO-ALLDAYEVENT:TRUE
X-FUNAMBOL-ALLDAY:TRUE
DTSTAMP:20260419T120600Z
CREATED:20260212T214800Z
LAST-MODIFIED:20260212T214800Z
UID:20260528T000000-86823@law.utexas.edu
SUMMARY:Workshop on Empirical Methods in IP
DESCRIPTION:<p>The 2026 Workshop on Empirical Methods in Intellectual
  Property is co-sponsored by Duke Law\, Northwestern Pritzker School of
  Law\, and the University of Texas Law School.   This conference combines
  two established events—the original Workshop on Empirical Methods in
  Intellectual Property and the Empirical IP Conference—into a single\,
  unified gathering under the Workshop’s name.</p>If you need an
  accommodation to participate in this event, please contact the event
  sponsor or the Texas Law Special Events Office at
  specialevents@law.utexas.edu no later than seven business days prior to
  the event.
X-ALT-DESC;FMTTYPE=text/html:<p>The 2026 Workshop on Empirical Methods in
  Intellectual Property is co-sponsored by Duke Law\, Northwestern Pritzker
  School of Law\, and the University of Texas Law School.   This conference
  combines two established events—the original Workshop on Empirical
  Methods in Intellectual Property and the Empirical IP Conference—into a
  single\, unified gathering under the Workshop’s name.</p><p>If you need
  an accommodation to participate in this event, please contact the
                                  event sponsor or the Texas Law Special
  Events Office at <a
  href="mailto:specialevents@law.utexas.edu">specialevents@law.utexas.edu</
  a> no later than seven business days prior to the event.</p>
LOCATION:TNH 2.111 - Sheffield-Massey Room
URL:https://law.utexas.edu/calendar/2026/05/28/86823/
CLASS:PRIVATE
STATUS:CONFIRMED
END:VEVENT
END:VCALENDAR