BEGIN:VCALENDAR
VERSION:2.0
PRODID:-//UNIVERSITY OF TEXAS SCHOOL OF LAW//NONSGML Events Calendar v1.0//EN
X-WR-CALNAME:Texas Law - Events Calendar - Other Events
X-WR-TIMEZONE:America/Chicago
BEGIN:VTIMEZONE
TZID:US/Central
X-LIC-LOCATION:America/Chicago
BEGIN:DAYLIGHT
TZOFFSETFROM:-0600
TZOFFSETTO:-0500
TZNAME:CDT
DTSTART:19700308T020000
RRULE:FREQ=YEARLY;BYMONTH=3;BYDAY=2SU
END:DAYLIGHT
BEGIN:STANDARD
TZOFFSETFROM:-0500
TZOFFSETTO:-0600
TZNAME:CST
DTSTART:19701101T020000
RRULE:FREQ=YEARLY;BYMONTH=11;BYDAY=1SU
END:STANDARD
END:VTIMEZONE
BEGIN:VEVENT
DTSTART;VALUE=DATE-TIME;TZID=US/Central:20260421T120000
DTEND;VALUE=DATE-TIME;TZID=US/Central:20260421T125000
DTSTAMP:20260419T120600Z
CREATED:20260408T190500Z
LAST-MODIFIED:20260408T190500Z
UID:20260421T120000-88217@law.utexas.edu
SUMMARY:Interscholastic Mock Trial Info Session
DESCRIPTION:<p>Please join Director of Advocacy\, Professor Mike Golden\,
  for an Interscholastic Mock Trial Info Session on Tuesday\, April 21st at
  12:00 pm in TNH 2.123.  </p>
  <p>Find out all you need to know about
  participating in interscholastic mock trial while at Texas Law.  Things
  like...What is interscholastic mock trial? How can I participate at Texas
  Law? What type of competitions do we attend? What does the time
  commitment look like? When and how do I try out for the team? And get
  answers to any other questions you might have.</p>
  <p>Pizza provided
  during the session!</p>
  <p>Please RSVP if you plan to attend\; <a
  href="https://forms.office.com/r/MFvE63Tg6h">https://forms.office.com/r/M
  FvE63Tg6h</a> </p>If you need an accommodation to participate in this
  event, please contact the event sponsor or the Texas Law Special Events
  Office at specialevents@law.utexas.edu no later than seven business days
  prior to the event.
X-ALT-DESC;FMTTYPE=text/html:<p>Please join Director of Advocacy\,
  Professor Mike Golden\, for an Interscholastic Mock Trial Info Session on
  Tuesday\, April 21st at 12:00 pm in TNH 2.123.  </p>
  <p>Find out all you
  need to know about participating in interscholastic mock trial while at
  Texas Law.  Things like...What is interscholastic mock trial? How can I
  participate at Texas Law? What type of competitions do we attend? What
  does the time commitment look like? When and how do I try out for the
  team? And get answers to any other questions you might
  have.</p>
  <p>Pizza provided during the session!</p>
  <p>Please RSVP if
  you plan to attend\; <a
  href="https://forms.office.com/r/MFvE63Tg6h">https://forms.office.com/r/M
  FvE63Tg6h</a> </p><p>If you need an accommodation to participate in this
  event, please contact the
                                          event
  sponsor or the Texas Law Special Events Office at <a
  href="mailto:specialevents@law.utexas.edu">specialevents@law.utexas.edu</
  a> no later than seven business days prior to the event.</p>
LOCATION:TNH 2.123 - Beck Classroom
URL:https://law.utexas.edu/calendar/2026/04/21/88217/
CLASS:PUBLIC
STATUS:CONFIRMED
END:VEVENT
BEGIN:VEVENT
DTSTART;VALUE=DATE-TIME;TZID=US/Central:20260423T130000
DTEND;VALUE=DATE-TIME;TZID=US/Central:20260423T170000
DTSTAMP:20260419T120600Z
CREATED:20260417T191300Z
LAST-MODIFIED:20260417T191300Z
UID:20260423T130000-88357@law.utexas.edu
SUMMARY:Texas 15th Court of Appeals
DESCRIPTION:<p>Texas’s 15th Court of Appeals will hold oral argument on
  four cases here at Texas Law Thursday\, April 23rd\, starting at 1:30pm.
  This is an amazing opportunity to see real life appellate argument in
  person without leaving the law school. The court will hear oral arguments
  on the four cases listed on their website\; <a
  href="https://search.txcourts.gov/submission.aspx?coa=coa15">https://sear
  ch.txcourts.gov/submission.aspx?coa=coa15</a></p>
  <p>For oral
  arguments\, both the appellant and the appellee will have 20 minutes each
  for their argument.  You can find more information about these cases (and
  even read their appellate briefs) at the court website link above. </p>If
  you need an accommodation to participate in this event, please contact
  the event sponsor or the Texas Law Special Events Office at
  specialevents@law.utexas.edu no later than seven business days prior to
  the event.
X-ALT-DESC;FMTTYPE=text/html:<p>Texas’s 15th Court of Appeals will hold
  oral argument on four cases here at Texas Law Thursday\, April 23rd\,
  starting at 1:30pm. This is an amazing opportunity to see real life
  appellate argument in person without leaving the law school. The court
  will hear oral arguments on the four cases listed on their website\; <a
  href="https://search.txcourts.gov/submission.aspx?coa=coa15">https://sear
  ch.txcourts.gov/submission.aspx?coa=coa15</a></p>
  <p>For oral
  arguments\, both the appellant and the appellee will have 20 minutes each
  for their argument.  You can find more information about these cases (and
  even read their appellate briefs) at the court website link above.
  </p><p>If you need an accommodation to participate in this event, please
  contact the
                                          event sponsor or the
  Texas Law Special Events Office at <a
  href="mailto:specialevents@law.utexas.edu">specialevents@law.utexas.edu</
  a> no later than seven business days prior to the event.</p>
LOCATION:CCJ 2.306 - Eidman Courtroom
URL:https://law.utexas.edu/calendar/2026/04/23/88357/
CLASS:PUBLIC
STATUS:CONFIRMED
END:VEVENT
BEGIN:VEVENT
DTSTART;VALUE=DATE;TZID=US/Central:20261121
DTEND;VALUE=DATE;TZID=US/Central:20261122
X-MICROSOFT-CDO-ALLDAYEVENT:TRUE
X-FUNAMBOL-ALLDAY:TRUE
DTSTAMP:20260419T120600Z
CREATED:20260206T212500Z
LAST-MODIFIED:20260209T161800Z
UID:20261121T000000-86718@law.utexas.edu
SUMMARY:Texas Law Alumni Tailgate
DESCRIPTION:<p>Join us for the 28th annual alumni tailgate with delicious
  food from the Rodriguez family (Eduardo Rodriguez '68 and Michael
  Rodriguez '94).</p>
  <p>Alumni\, faculty\, and 3Ls are welcome to attend.
  Registration details coming soon!</p>If you need an accommodation to
  participate in this event, please contact the event sponsor or the Texas
  Law Special Events Office at specialevents@law.utexas.edu no later than
  seven business days prior to the event.
X-ALT-DESC;FMTTYPE=text/html:<p>Join us for the 28th annual alumni
  tailgate with delicious food from the Rodriguez family (Eduardo Rodriguez
  '68 and Michael Rodriguez '94).</p>
  <p>Alumni\, faculty\, and 3Ls are
  welcome to attend. Registration details coming soon!</p><p>If you need an
  accommodation to participate in this event, please contact the
                               event sponsor or the Texas Law Special
  Events Office at <a
  href="mailto:specialevents@law.utexas.edu">specialevents@law.utexas.edu</
  a> no later than seven business days prior to the event.</p>
LOCATION:TNH 2.100 - Susman Godfrey Atrium
URL:https://law.utexas.edu/calendar/2026/11/21/86718/
CLASS:PUBLIC
STATUS:CONFIRMED
END:VEVENT
END:VCALENDAR