BEGIN:VCALENDAR
VERSION:2.0
PRODID:-//UNIVERSITY OF TEXAS SCHOOL OF LAW//NONSGML Events Calendar v1.0//EN
X-WR-CALNAME:Texas Law - Events Calendar - Panel Discussion / Speaker Series Events
X-WR-TIMEZONE:America/Chicago
BEGIN:VTIMEZONE
TZID:US/Central
X-LIC-LOCATION:America/Chicago
BEGIN:DAYLIGHT
TZOFFSETFROM:-0600
TZOFFSETTO:-0500
TZNAME:CDT
DTSTART:19700308T020000
RRULE:FREQ=YEARLY;BYMONTH=3;BYDAY=2SU
END:DAYLIGHT
BEGIN:STANDARD
TZOFFSETFROM:-0500
TZOFFSETTO:-0600
TZNAME:CST
DTSTART:19701101T020000
RRULE:FREQ=YEARLY;BYMONTH=11;BYDAY=1SU
END:STANDARD
END:VTIMEZONE
BEGIN:VEVENT
DTSTART;VALUE=DATE-TIME;TZID=US/Central:20260420T115000
DTEND;VALUE=DATE-TIME;TZID=US/Central:20260420T125000
DTSTAMP:20260419T120600Z
CREATED:20260410T195700Z
LAST-MODIFIED:20260414T010400Z
UID:20260420T115000-88259@law.utexas.edu
SUMMARY:A Conversation with The Presidents: The
DESCRIPTION:<p>A Conversation with The Presidents: The State Bar of Texas
  & TYLA</p>If you need an accommodation to participate in this event,
  please contact the event sponsor or the Texas Law Special Events Office
  at specialevents@law.utexas.edu no later than seven business days prior
  to the event.
X-ALT-DESC;FMTTYPE=text/html:<p>A Conversation with The Presidents: The
  State Bar of Texas & TYLA</p><p>If you need an accommodation to
  participate in this event, please contact the
              event sponsor or the Texas Law Special Events Office at <a
  href="mailto:specialevents@law.utexas.edu">specialevents@law.utexas.edu</
  a> no later than seven business days prior to the event.</p>
LOCATION:TNH 2.138 - Blanton Classroom
URL:https://law.utexas.edu/calendar/2026/04/20/88259/
CLASS:PUBLIC
STATUS:CONFIRMED
END:VEVENT
END:VCALENDAR