BEGIN:VCALENDAR
VERSION:2.0
PRODID:-//UNIVERSITY OF TEXAS SCHOOL OF LAW//NONSGML Events Calendar v1.0//EN
X-WR-CALNAME:Texas Law - Events Calendar - Symposium Events
X-WR-TIMEZONE:America/Chicago
BEGIN:VTIMEZONE
TZID:US/Central
X-LIC-LOCATION:America/Chicago
BEGIN:DAYLIGHT
TZOFFSETFROM:-0600
TZOFFSETTO:-0500
TZNAME:CDT
DTSTART:19700308T020000
RRULE:FREQ=YEARLY;BYMONTH=3;BYDAY=2SU
END:DAYLIGHT
BEGIN:STANDARD
TZOFFSETFROM:-0500
TZOFFSETTO:-0600
TZNAME:CST
DTSTART:19701101T020000
RRULE:FREQ=YEARLY;BYMONTH=11;BYDAY=1SU
END:STANDARD
END:VTIMEZONE
BEGIN:VEVENT
DTSTART;VALUE=DATE;TZID=US/Central:20260911
DTEND;VALUE=DATE;TZID=US/Central:20260912
X-MICROSOFT-CDO-ALLDAYEVENT:TRUE
X-FUNAMBOL-ALLDAY:TRUE
DTSTAMP:20260419T120600Z
CREATED:20260216T202100Z
LAST-MODIFIED:20260216T205200Z
UID:20260911T000000-86897@law.utexas.edu
SUMMARY:12th Annual Energy Symposium 12th Annual
DESCRIPTION:<p>Headlined by Michael K. Wirth and Daniel Yergin\, Pulitzer
  Prize-winning author\, this year’s Energy Symposium will convene
  industry leaders\, faculty\, and students for a series of insightful
  panel discussions. It will explore the industry’s most pressing
  challenges and emerging opportunities shaping the future of energy.</p>If
  you need an accommodation to participate in this event, please contact
  the event sponsor or the Texas Law Special Events Office at
  specialevents@law.utexas.edu no later than seven business days prior to
  the event.
X-ALT-DESC;FMTTYPE=text/html:<p>Headlined by Michael K. Wirth and Daniel
  Yergin\, Pulitzer Prize-winning author\, this year’s Energy Symposium
  will convene industry leaders\, faculty\, and students for a series of
  insightful panel discussions. It will explore the industry’s most
  pressing challenges and emerging opportunities shaping the future of
  energy.</p><p>If you need an accommodation to participate in this event,
  please contact the
                                          event sponsor
  or the Texas Law Special Events Office at <a
  href="mailto:specialevents@law.utexas.edu">specialevents@law.utexas.edu</
  a> no later than seven business days prior to the event.</p>
LOCATION:
URL:https://law.utexas.edu/calendar/2026/09/11/86897/
CLASS:PUBLIC
STATUS:CONFIRMED
END:VEVENT
END:VCALENDAR