BEGIN:VCALENDAR
VERSION:2.0
PRODID:-//UNIVERSITY OF TEXAS SCHOOL OF LAW//NONSGML Events Calendar v1.0//EN
X-WR-CALNAME:Texas Law - Events Calendar - Texas Law Veterans Association
X-WR-TIMEZONE:America/Chicago
BEGIN:VTIMEZONE
TZID:US/Central
X-LIC-LOCATION:America/Chicago
BEGIN:DAYLIGHT
TZOFFSETFROM:-0600
TZOFFSETTO:-0500
TZNAME:CDT
DTSTART:19700308T020000
RRULE:FREQ=YEARLY;BYMONTH=3;BYDAY=2SU
END:DAYLIGHT
BEGIN:STANDARD
TZOFFSETFROM:-0500
TZOFFSETTO:-0600
TZNAME:CST
DTSTART:19701101T020000
RRULE:FREQ=YEARLY;BYMONTH=11;BYDAY=1SU
END:STANDARD
END:VTIMEZONE
BEGIN:VEVENT
DTSTART;VALUE=DATE-TIME;TZID=US/Central:20260422T080000
DTEND;VALUE=DATE-TIME;TZID=US/Central:20260422T090000
DTSTAMP:20260419T120500Z
CREATED:20251113T001500Z
LAST-MODIFIED:20260202T190700Z
UID:20260422T080000-85271@law.utexas.edu
SUMMARY:TLVA Weekly Wednesday Coffees
DESCRIPTION:<p>Join The Law Veterans Association for coffee and
  conversation every Wednesday from January 14 to April 22 in the Tom Clark
  Lounge. A great way to connect with fellow veterans\, build community\,
  and start your day with good company and caffeine. All Texas Law veteran
  students\, alumni\, and friends welcome.</p>If you need an accommodation
  to participate in this event, please contact the event sponsor or the
  Texas Law Special Events Office at specialevents@law.utexas.edu no later
  than seven business days prior to the event.
X-ALT-DESC;FMTTYPE=text/html:<p>Join The Law Veterans Association for
  coffee and conversation every Wednesday from January 14 to April 22 in
  the Tom Clark Lounge. A great way to connect with fellow veterans\, build
  community\, and start your day with good company and caffeine. All Texas
  Law veteran students\, alumni\, and friends welcome.</p><p>If you need an
  accommodation to participate in this event, please contact the
                               event sponsor or the Texas Law Special
  Events Office at <a
  href="mailto:specialevents@law.utexas.edu">specialevents@law.utexas.edu</
  a> no later than seven business days prior to the event.</p>
LOCATION:
URL:https://law.utexas.edu/calendar/2026/04/22/85271/
CLASS:PUBLIC
STATUS:CONFIRMED
END:VEVENT
BEGIN:VEVENT
DTSTART;VALUE=DATE-TIME;TZID=US/Central:20260423T180000
DTEND;VALUE=DATE-TIME;TZID=US/Central:20260423T210000
DTSTAMP:20260419T120500Z
CREATED:20260126T200300Z
LAST-MODIFIED:20260126T214000Z
UID:20260423T180000-86337@law.utexas.edu
SUMMARY:TLVA Annual Banquet
DESCRIPTION:<p>The Texas Law Veterans Association will host its annual
  Veterans Banquet celebrating our 10th year as a student organization. The
  event will honor TLVA’s founders\, alumni\, and mentors for their
  continued impact and support of the veteran community at Texas Law.</p>If
  you need an accommodation to participate in this event, please contact
  the event sponsor or the Texas Law Special Events Office at
  specialevents@law.utexas.edu no later than seven business days prior to
  the event.
X-ALT-DESC;FMTTYPE=text/html:<p>The Texas Law Veterans Association will
  host its annual Veterans Banquet celebrating our 10th year as a student
  organization. The event will honor TLVA’s founders\, alumni\, and
  mentors for their continued impact and support of the veteran community
  at Texas Law.</p><p>If you need an accommodation to participate in this
  event, please contact the
                                          event
  sponsor or the Texas Law Special Events Office at <a
  href="mailto:specialevents@law.utexas.edu">specialevents@law.utexas.edu</
  a> no later than seven business days prior to the event.</p>
LOCATION:TNH 2.100 - Susman Godfrey Atrium
URL:https://law.utexas.edu/calendar/2026/04/23/86337/
CLASS:PUBLIC
STATUS:CONFIRMED
END:VEVENT
END:VCALENDAR