BEGIN:VCALENDAR
VERSION:2.0
PRODID:-//UNIVERSITY OF TEXAS SCHOOL OF LAW//NONSGML Events Calendar v1.0//EN
X-WR-CALNAME:Texas Law - Events Calendar - Alumni Relations and Development
X-WR-TIMEZONE:America/Chicago
BEGIN:VTIMEZONE
TZID:US/Central
X-LIC-LOCATION:America/Chicago
BEGIN:DAYLIGHT
TZOFFSETFROM:-0600
TZOFFSETTO:-0500
TZNAME:CDT
DTSTART:19700308T020000
RRULE:FREQ=YEARLY;BYMONTH=3;BYDAY=2SU
END:DAYLIGHT
BEGIN:STANDARD
TZOFFSETFROM:-0500
TZOFFSETTO:-0600
TZNAME:CST
DTSTART:19701101T020000
RRULE:FREQ=YEARLY;BYMONTH=11;BYDAY=1SU
END:STANDARD
END:VTIMEZONE
BEGIN:VEVENT
DTSTART;VALUE=DATE-TIME;TZID=US/Central:20260514T180000
DTEND;VALUE=DATE-TIME;TZID=US/Central:20260514T200000
DTSTAMP:20260419T182200Z
CREATED:20260206T211800Z
LAST-MODIFIED:20260325T190400Z
UID:20260514T180000-86717@law.utexas.edu
SUMMARY:Texas Law on Tour: San Francisco
DESCRIPTION:<p>Join Dean Bobby Chesney and fellow San Francisco-area
  alumni for an evening of conversation\, community\, and updates from
  Texas Law.</p>
  <p>Hear the inside scoop on the residence hall project\,
  Texas Law’s newest faculty\, and the future of your alma mater — plus
  reconnect with alumni in your city.</p>If you need an accommodation to
  participate in this event, please contact the event sponsor or the Texas
  Law Special Events Office at specialevents@law.utexas.edu no later than
  seven business days prior to the event.
X-ALT-DESC;FMTTYPE=text/html:<p>Join Dean Bobby Chesney and fellow San
  Francisco-area alumni for an evening of conversation\, community\, and
  updates from Texas Law.</p>
  <p>Hear the inside scoop on the residence
  hall project\, Texas Law’s newest faculty\, and the future of your alma
  mater — plus reconnect with alumni in your city.</p><p>If you need an
  accommodation to participate in this event, please contact the
                               event sponsor or the Texas Law Special
  Events Office at <a
  href="mailto:specialevents@law.utexas.edu">specialevents@law.utexas.edu</
  a> no later than seven business days prior to the event.</p>
LOCATION:
URL:https://law.utexas.edu/calendar/2026/05/14/86717/
CLASS:PUBLIC
STATUS:CONFIRMED
END:VEVENT
BEGIN:VEVENT
DTSTART;VALUE=DATE;TZID=US/Central:20260602
DTEND;VALUE=DATE;TZID=US/Central:20260603
X-MICROSOFT-CDO-ALLDAYEVENT:TRUE
X-FUNAMBOL-ALLDAY:TRUE
DTSTAMP:20260419T182200Z
CREATED:20260225T223000Z
LAST-MODIFIED:20260317T165100Z
UID:20260602T000000-87259@law.utexas.edu
SUMMARY:Austin Alumni Summer Social
DESCRIPTION:<p>More information coming soon!</p>If you need an
  accommodation to participate in this event, please contact the event
  sponsor or the Texas Law Special Events Office at
  specialevents@law.utexas.edu no later than seven business days prior to
  the event.
X-ALT-DESC;FMTTYPE=text/html:<p>More information coming soon!</p><p>If
  you need an accommodation to participate in this event, please contact
  the
                                          event sponsor or the Texas
  Law Special Events Office at <a
  href="mailto:specialevents@law.utexas.edu">specialevents@law.utexas.edu</
  a> no later than seven business days prior to the event.</p>
URL:https://law.utexas.edu/calendar/2026/06/02/87259/
CLASS:PUBLIC
STATUS:CONFIRMED
END:VEVENT
BEGIN:VEVENT
DTSTART;VALUE=DATE;TZID=US/Central:20260603
DTEND;VALUE=DATE;TZID=US/Central:20260604
X-MICROSOFT-CDO-ALLDAYEVENT:TRUE
X-FUNAMBOL-ALLDAY:TRUE
DTSTAMP:20260419T182200Z
CREATED:20260225T220800Z
LAST-MODIFIED:20260408T174700Z
UID:20260603T000000-87257@law.utexas.edu
SUMMARY:Texas Law on Tour: Washington D.C.
DESCRIPTION:<p>Join Dean Bobby Chesney and fellow Washington D.C.-area
  alumni for an evening of conversation\, community\, and updates from
  Texas Law.</p>
  <p>Hear the inside scoop on the residence hall project\,
  Texas Law’s newest faculty\, and the future of your alma mater — plus
  reconnect with alumni in your city.</p>If you need an accommodation to
  participate in this event, please contact the event sponsor or the Texas
  Law Special Events Office at specialevents@law.utexas.edu no later than
  seven business days prior to the event.
X-ALT-DESC;FMTTYPE=text/html:<p>Join Dean Bobby Chesney and fellow
  Washington D.C.-area alumni for an evening of conversation\, community\,
  and updates from Texas Law.</p>
  <p>Hear the inside scoop on the
  residence hall project\, Texas Law’s newest faculty\, and the future of
  your alma mater — plus reconnect with alumni in your city.</p><p>If you
  need an accommodation to participate in this event, please contact the
                                       event sponsor or the Texas Law
  Special Events Office at <a
  href="mailto:specialevents@law.utexas.edu">specialevents@law.utexas.edu</
  a> no later than seven business days prior to the event.</p>
LOCATION:
URL:https://law.utexas.edu/calendar/2026/06/03/87257/
CLASS:PUBLIC
STATUS:CONFIRMED
END:VEVENT
BEGIN:VEVENT
DTSTART;VALUE=DATE;TZID=US/Central:20260611
DTEND;VALUE=DATE;TZID=US/Central:20260612
X-MICROSOFT-CDO-ALLDAYEVENT:TRUE
X-FUNAMBOL-ALLDAY:TRUE
DTSTAMP:20260419T182200Z
CREATED:20260122T163100Z
LAST-MODIFIED:20260311T191000Z
UID:20260611T000000-86216@law.utexas.edu
SUMMARY:Texas Law Reception at State Bar
DESCRIPTION:<p>State Bar of Texas Annual Meeting Reception. All Texas Law
  alumni in the state of Texas are invited.</p>If you need an accommodation
  to participate in this event, please contact the event sponsor or the
  Texas Law Special Events Office at specialevents@law.utexas.edu no later
  than seven business days prior to the event.
X-ALT-DESC;FMTTYPE=text/html:<p>State Bar of Texas Annual Meeting
  Reception. All Texas Law alumni in the state of Texas are
  invited.</p><p>If you need an accommodation to participate in this event,
  please contact the
                                          event sponsor
  or the Texas Law Special Events Office at <a
  href="mailto:specialevents@law.utexas.edu">specialevents@law.utexas.edu</
  a> no later than seven business days prior to the event.</p>
LOCATION:
URL:https://law.utexas.edu/calendar/2026/06/11/86216/
CLASS:PUBLIC
STATUS:CONFIRMED
END:VEVENT
BEGIN:VEVENT
DTSTART;VALUE=DATE;TZID=US/Central:20260918
DTEND;VALUE=DATE;TZID=US/Central:20260919
X-MICROSOFT-CDO-ALLDAYEVENT:TRUE
X-FUNAMBOL-ALLDAY:TRUE
DTSTAMP:20260419T182200Z
CREATED:20260225T222400Z
LAST-MODIFIED:20260225T222400Z
UID:20260918T000000-87258@law.utexas.edu
SUMMARY:2026 Alumni Awards
DESCRIPTION:<p>More information coming soon.</p>If you need an
  accommodation to participate in this event, please contact the event
  sponsor or the Texas Law Special Events Office at
  specialevents@law.utexas.edu no later than seven business days prior to
  the event.
X-ALT-DESC;FMTTYPE=text/html:<p>More information coming soon.</p><p>If
  you need an accommodation to participate in this event, please contact
  the
                                          event sponsor or the Texas
  Law Special Events Office at <a
  href="mailto:specialevents@law.utexas.edu">specialevents@law.utexas.edu</
  a> no later than seven business days prior to the event.</p>
URL:https://law.utexas.edu/calendar/2026/09/18/87258/
CLASS:PUBLIC
STATUS:CONFIRMED
END:VEVENT
BEGIN:VEVENT
DTSTART;VALUE=DATE-TIME;TZID=US/Central:20261002T120000
DTEND;VALUE=DATE-TIME;TZID=US/Central:20261002T131500
DTSTAMP:20260419T182200Z
CREATED:20260206T213000Z
LAST-MODIFIED:20260209T161800Z
UID:20261002T120000-86719@law.utexas.edu
SUMMARY:Scholarship Celebration 2026
DESCRIPTION:<p>The Scholarship Celebration is an opportunity to gather
  scholarship supporters and student recipients of this year's
  scholarships. By invitation only.</p>If you need an accommodation to
  participate in this event, please contact the event sponsor or the Texas
  Law Special Events Office at specialevents@law.utexas.edu no later than
  seven business days prior to the event.
X-ALT-DESC;FMTTYPE=text/html:<p>The Scholarship Celebration is an
  opportunity to gather scholarship supporters and student recipients of
  this year's scholarships. By invitation only.</p><p>If you need an
  accommodation to participate in this event, please contact the
                               event sponsor or the Texas Law Special
  Events Office at <a
  href="mailto:specialevents@law.utexas.edu">specialevents@law.utexas.edu</
  a> no later than seven business days prior to the event.</p>
LOCATION:TNH 2.100 - Susman Godfrey Atrium
URL:https://law.utexas.edu/calendar/2026/10/02/86719/
CLASS:PUBLIC
STATUS:CONFIRMED
END:VEVENT
BEGIN:VEVENT
DTSTART;VALUE=DATE;TZID=US/Central:20261121
DTEND;VALUE=DATE;TZID=US/Central:20261122
X-MICROSOFT-CDO-ALLDAYEVENT:TRUE
X-FUNAMBOL-ALLDAY:TRUE
DTSTAMP:20260419T182200Z
CREATED:20260206T212500Z
LAST-MODIFIED:20260209T161800Z
UID:20261121T000000-86718@law.utexas.edu
SUMMARY:Texas Law Alumni Tailgate
DESCRIPTION:<p>Join us for the 28th annual alumni tailgate with delicious
  food from the Rodriguez family (Eduardo Rodriguez '68 and Michael
  Rodriguez '94).</p>
  <p>Alumni\, faculty\, and 3Ls are welcome to attend.
  Registration details coming soon!</p>If you need an accommodation to
  participate in this event, please contact the event sponsor or the Texas
  Law Special Events Office at specialevents@law.utexas.edu no later than
  seven business days prior to the event.
X-ALT-DESC;FMTTYPE=text/html:<p>Join us for the 28th annual alumni
  tailgate with delicious food from the Rodriguez family (Eduardo Rodriguez
  '68 and Michael Rodriguez '94).</p>
  <p>Alumni\, faculty\, and 3Ls are
  welcome to attend. Registration details coming soon!</p><p>If you need an
  accommodation to participate in this event, please contact the
                               event sponsor or the Texas Law Special
  Events Office at <a
  href="mailto:specialevents@law.utexas.edu">specialevents@law.utexas.edu</
  a> no later than seven business days prior to the event.</p>
LOCATION:TNH 2.100 - Susman Godfrey Atrium
URL:https://law.utexas.edu/calendar/2026/11/21/86718/
CLASS:PUBLIC
STATUS:CONFIRMED
END:VEVENT
END:VCALENDAR