BEGIN:VCALENDAR
VERSION:2.0
PRODID:-//UNIVERSITY OF TEXAS SCHOOL OF LAW//NONSGML Events Calendar v1.0//EN
X-WR-CALNAME:Texas Law - Events Calendar - Dean's Suite
X-WR-TIMEZONE:America/Chicago
BEGIN:VTIMEZONE
TZID:US/Central
X-LIC-LOCATION:America/Chicago
BEGIN:DAYLIGHT
TZOFFSETFROM:-0600
TZOFFSETTO:-0500
TZNAME:CDT
DTSTART:19700308T020000
RRULE:FREQ=YEARLY;BYMONTH=3;BYDAY=2SU
END:DAYLIGHT
BEGIN:STANDARD
TZOFFSETFROM:-0500
TZOFFSETTO:-0600
TZNAME:CST
DTSTART:19701101T020000
RRULE:FREQ=YEARLY;BYMONTH=11;BYDAY=1SU
END:STANDARD
END:VTIMEZONE
BEGIN:VEVENT
DTSTART;VALUE=DATE-TIME;TZID=US/Central:20260427T180000
DTEND;VALUE=DATE-TIME;TZID=US/Central:20260427T203000
DTSTAMP:20260419T120600Z
CREATED:20260121T185500Z
LAST-MODIFIED:20260121T185500Z
UID:20260427T180000-86202@law.utexas.edu
SUMMARY:Spring Faculty Dinner
DESCRIPTION:<p>Spring Faculty Dinner</p>If you need an accommodation to
  participate in this event, please contact the event sponsor or the Texas
  Law Special Events Office at specialevents@law.utexas.edu no later than
  seven business days prior to the event.
X-ALT-DESC;FMTTYPE=text/html:<p>Spring Faculty Dinner</p><p>If you need
  an accommodation to participate in this event, please contact the
                                  event sponsor or the Texas Law Special
  Events Office at <a
  href="mailto:specialevents@law.utexas.edu">specialevents@law.utexas.edu</
  a> no later than seven business days prior to the event.</p>
LOCATION:TNH 2.100 - Susman Godfrey Atrium
URL:https://law.utexas.edu/calendar/2026/04/27/86202/
CLASS:PRIVATE
STATUS:CONFIRMED
END:VEVENT
BEGIN:VEVENT
DTSTART;VALUE=DATE-TIME;TZID=US/Central:20260501T115000
DTEND;VALUE=DATE-TIME;TZID=US/Central:20260501T125000
DTSTAMP:20260419T120600Z
CREATED:20260402T122700Z
LAST-MODIFIED:20260402T122700Z
UID:20260501T115000-88017@law.utexas.edu
SUMMARY:AI Upscale: Slide Deck
DESCRIPTION:<p>Join us for a session featuring our dean Bobby Chesney\, a
  workshop on generating a slide set from a document (or other materials)
  using AI\, lunch\, and time for discussion.</p>
  <p>If you are unable to
  attend in person\, please join us via Zoom: <a
  href="https://utexas.zoom.us/j/8842724978?omn=87437606930">https://utexas
  .zoom.us/j/8842724978?omn=87437606930</a></p>If you need an accommodation
  to participate in this event, please contact the event sponsor or the
  Texas Law Special Events Office at specialevents@law.utexas.edu no later
  than seven business days prior to the event.
X-ALT-DESC;FMTTYPE=text/html:<p>Join us for a session featuring our dean
  Bobby Chesney\, a workshop on generating a slide set from a document (or
  other materials) using AI\, lunch\, and time for discussion.</p>
  <p>If
  you are unable to attend in person\, please join us via Zoom: <a
  href="https://utexas.zoom.us/j/8842724978?omn=87437606930">https://utexas
  .zoom.us/j/8842724978?omn=87437606930</a></p><p>If you need an
  accommodation to participate in this event, please contact the
                               event sponsor or the Texas Law Special
  Events Office at <a
  href="mailto:specialevents@law.utexas.edu">specialevents@law.utexas.edu</
  a> no later than seven business days prior to the event.</p>
LOCATION:TNH 2.140 - Wright Classroom
URL:https://law.utexas.edu/calendar/2026/05/01/88017/
CLASS:PRIVATE
STATUS:CONFIRMED
END:VEVENT
BEGIN:VEVENT
DTSTART;VALUE=DATE-TIME;TZID=US/Central:20260512T083000
DTEND;VALUE=DATE-TIME;TZID=US/Central:20260512T163000
DTSTAMP:20260419T120600Z
CREATED:20250911T204900Z
LAST-MODIFIED:20250911T204900Z
UID:20260512T083000-84187@law.utexas.edu
SUMMARY:Law and Psychedelics Conference
DESCRIPTION:<p>This conference will gather leading experts and scholars
  in law\, medicine\, science\, and policy to discuss the challenges and
  opportunities presented by the dynamic landscape of psychedelics.</p>If
  you need an accommodation to participate in this event, please contact
  the event sponsor or the Texas Law Special Events Office at
  specialevents@law.utexas.edu no later than seven business days prior to
  the event.
X-ALT-DESC;FMTTYPE=text/html:<p>This conference will gather leading
  experts and scholars in law\, medicine\, science\, and policy to discuss
  the challenges and opportunities presented by the dynamic landscape of
  psychedelics.</p><p>If you need an accommodation to participate in this
  event, please contact the
                                          event
  sponsor or the Texas Law Special Events Office at <a
  href="mailto:specialevents@law.utexas.edu">specialevents@law.utexas.edu</
  a> no later than seven business days prior to the event.</p>
LOCATION:TNH 2.111 - Sheffield-Massey Room
URL:https://law.utexas.edu/calendar/2026/05/12/84187/
CLASS:PRIVATE
STATUS:CONFIRMED
END:VEVENT
BEGIN:VEVENT
DTSTART;VALUE=DATE;TZID=US/Central:20260527
DTEND;VALUE=DATE;TZID=US/Central:20260528
X-MICROSOFT-CDO-ALLDAYEVENT:TRUE
X-FUNAMBOL-ALLDAY:TRUE
DTSTAMP:20260419T120600Z
CREATED:20260212T214800Z
LAST-MODIFIED:20260212T214800Z
UID:20260527T000000-86822@law.utexas.edu
SUMMARY:Workshop on Empirical Methods in IP
DESCRIPTION:<p>The 2026 Workshop on Empirical Methods in Intellectual
  Property is co-sponsored by Duke Law\, Northwestern Pritzker School of
  Law\, and the University of Texas Law School.   This conference combines
  two established events—the original Workshop on Empirical Methods in
  Intellectual Property and the Empirical IP Conference—into a single\,
  unified gathering under the Workshop’s name.</p>If you need an
  accommodation to participate in this event, please contact the event
  sponsor or the Texas Law Special Events Office at
  specialevents@law.utexas.edu no later than seven business days prior to
  the event.
X-ALT-DESC;FMTTYPE=text/html:<p>The 2026 Workshop on Empirical Methods in
  Intellectual Property is co-sponsored by Duke Law\, Northwestern Pritzker
  School of Law\, and the University of Texas Law School.   This conference
  combines two established events—the original Workshop on Empirical
  Methods in Intellectual Property and the Empirical IP Conference—into a
  single\, unified gathering under the Workshop’s name.</p><p>If you need
  an accommodation to participate in this event, please contact the
                                  event sponsor or the Texas Law Special
  Events Office at <a
  href="mailto:specialevents@law.utexas.edu">specialevents@law.utexas.edu</
  a> no later than seven business days prior to the event.</p>
LOCATION:TNH 2.111 - Sheffield-Massey Room
URL:https://law.utexas.edu/calendar/2026/05/27/86822/
CLASS:PRIVATE
STATUS:CONFIRMED
END:VEVENT
BEGIN:VEVENT
DTSTART;VALUE=DATE;TZID=US/Central:20260528
DTEND;VALUE=DATE;TZID=US/Central:20260529
X-MICROSOFT-CDO-ALLDAYEVENT:TRUE
X-FUNAMBOL-ALLDAY:TRUE
DTSTAMP:20260419T120600Z
CREATED:20260212T214800Z
LAST-MODIFIED:20260212T214800Z
UID:20260528T000000-86823@law.utexas.edu
SUMMARY:Workshop on Empirical Methods in IP
DESCRIPTION:<p>The 2026 Workshop on Empirical Methods in Intellectual
  Property is co-sponsored by Duke Law\, Northwestern Pritzker School of
  Law\, and the University of Texas Law School.   This conference combines
  two established events—the original Workshop on Empirical Methods in
  Intellectual Property and the Empirical IP Conference—into a single\,
  unified gathering under the Workshop’s name.</p>If you need an
  accommodation to participate in this event, please contact the event
  sponsor or the Texas Law Special Events Office at
  specialevents@law.utexas.edu no later than seven business days prior to
  the event.
X-ALT-DESC;FMTTYPE=text/html:<p>The 2026 Workshop on Empirical Methods in
  Intellectual Property is co-sponsored by Duke Law\, Northwestern Pritzker
  School of Law\, and the University of Texas Law School.   This conference
  combines two established events—the original Workshop on Empirical
  Methods in Intellectual Property and the Empirical IP Conference—into a
  single\, unified gathering under the Workshop’s name.</p><p>If you need
  an accommodation to participate in this event, please contact the
                                  event sponsor or the Texas Law Special
  Events Office at <a
  href="mailto:specialevents@law.utexas.edu">specialevents@law.utexas.edu</
  a> no later than seven business days prior to the event.</p>
LOCATION:TNH 2.111 - Sheffield-Massey Room
URL:https://law.utexas.edu/calendar/2026/05/28/86823/
CLASS:PRIVATE
STATUS:CONFIRMED
END:VEVENT
BEGIN:VEVENT
DTSTART;VALUE=DATE-TIME;TZID=US/Central:20260818T113000
DTEND;VALUE=DATE-TIME;TZID=US/Central:20260818T131500
DTSTAMP:20260419T120600Z
CREATED:20260218T202800Z
LAST-MODIFIED:20260218T202800Z
UID:20260818T113000-87017@law.utexas.edu
SUMMARY:Adjunct Welcome Lunch
DESCRIPTION:<p>Annual Adjunct Welcome Lunch to launch the 2026-27
  academic year.</p>
  <p>Questions? Email
  ashton.sauseda@law.utexas.edu</p>If you need an accommodation to
  participate in this event, please contact the event sponsor or the Texas
  Law Special Events Office at specialevents@law.utexas.edu no later than
  seven business days prior to the event.
X-ALT-DESC;FMTTYPE=text/html:<p>Annual Adjunct Welcome Lunch to launch
  the 2026-27 academic year.</p>
  <p>Questions? Email
  ashton.sauseda@law.utexas.edu</p><p>If you need an accommodation to
  participate in this event, please contact the
              event sponsor or the Texas Law Special Events Office at <a
  href="mailto:specialevents@law.utexas.edu">specialevents@law.utexas.edu</
  a> no later than seven business days prior to the event.</p>
LOCATION:TNH 2.111 - Sheffield-Massey Room
URL:https://law.utexas.edu/calendar/2026/08/18/87017/
CLASS:PRIVATE
STATUS:CONFIRMED
END:VEVENT
END:VCALENDAR