BEGIN:VCALENDAR
VERSION:2.0
PRODID:-//UNIVERSITY OF TEXAS SCHOOL OF LAW//NONSGML Events Calendar v1.0//EN
X-WR-CALNAME:Texas Law - Events Calendar - Student Affairs Office
X-WR-TIMEZONE:America/Chicago
BEGIN:VTIMEZONE
TZID:US/Central
X-LIC-LOCATION:America/Chicago
BEGIN:DAYLIGHT
TZOFFSETFROM:-0600
TZOFFSETTO:-0500
TZNAME:CDT
DTSTART:19700308T020000
RRULE:FREQ=YEARLY;BYMONTH=3;BYDAY=2SU
END:DAYLIGHT
BEGIN:STANDARD
TZOFFSETFROM:-0500
TZOFFSETTO:-0600
TZNAME:CST
DTSTART:19701101T020000
RRULE:FREQ=YEARLY;BYMONTH=11;BYDAY=1SU
END:STANDARD
END:VTIMEZONE
BEGIN:VEVENT
DTSTART;VALUE=DATE-TIME;TZID=US/Central:20260420T083000
DTEND;VALUE=DATE-TIME;TZID=US/Central:20260420T103000
DTSTAMP:20260419T120600Z
CREATED:20260416T151000Z
LAST-MODIFIED:20260416T151000Z
UID:20260420T083000-88317@law.utexas.edu
SUMMARY:Body Doubling Study Session
DESCRIPTION:<p>This accountability session will provide you a quiet space
  to help you stay focused\, engaged\, and motivated to achieve your
  studying goals. This is a 120-minute structured session with limited
  seats available. Snacks will be provided. RSVP using the link.</p>If you
  need an accommodation to participate in this event, please contact the
  event sponsor or the Texas Law Special Events Office at
  specialevents@law.utexas.edu no later than seven business days prior to
  the event.
X-ALT-DESC;FMTTYPE=text/html:<p>This accountability session will provide
  you a quiet space to help you stay focused\, engaged\, and motivated to
  achieve your studying goals. This is a 120-minute structured session with
  limited seats available. Snacks will be provided. RSVP using the
  link.</p><p>If you need an accommodation to participate in this event,
  please contact the
                                          event sponsor
  or the Texas Law Special Events Office at <a
  href="mailto:specialevents@law.utexas.edu">specialevents@law.utexas.edu</
  a> no later than seven business days prior to the event.</p>
LOCATION:TNH 2.139 - Wilson Classroom
URL:https://law.utexas.edu/calendar/2026/04/20/88317/
CLASS:PUBLIC
STATUS:CONFIRMED
END:VEVENT
BEGIN:VEVENT
DTSTART;VALUE=DATE-TIME;TZID=US/Central:20260421T110000
DTEND;VALUE=DATE-TIME;TZID=US/Central:20260421T125000
DTSTAMP:20260419T120600Z
CREATED:20260403T183000Z
LAST-MODIFIED:20260403T183000Z
UID:20260421T110000-88057@law.utexas.edu
SUMMARY:Divine Canines
DESCRIPTION:<p>Take a break and experience the therapeutic joy of petting
  adorable dogs during the last week of classes! Don't miss out on this
  paws-itively uplifting experience—come pet a pup and boost your
  mood!</p>If you need an accommodation to participate in this event,
  please contact the event sponsor or the Texas Law Special Events Office
  at specialevents@law.utexas.edu no later than seven business days prior
  to the event.
X-ALT-DESC;FMTTYPE=text/html:<p>Take a break and experience the
  therapeutic joy of petting adorable dogs during the last week of classes!
  Don't miss out on this paws-itively uplifting experience—come pet a pup
  and boost your mood!</p><p>If you need an accommodation to participate in
  this event, please contact the
  event sponsor or the Texas Law Special Events Office at <a
  href="mailto:specialevents@law.utexas.edu">specialevents@law.utexas.edu</
  a> no later than seven business days prior to the event.</p>
LOCATION: PATMAN - Patman Family Plaza
URL:https://law.utexas.edu/calendar/2026/04/21/88057/
CLASS:PUBLIC
STATUS:CONFIRMED
END:VEVENT
BEGIN:VEVENT
DTSTART;VALUE=DATE-TIME;TZID=US/Central:20260421T120000
DTEND;VALUE=DATE-TIME;TZID=US/Central:20260421T125000
DTSTAMP:20260419T120600Z
CREATED:20260303T165700Z
LAST-MODIFIED:20260303T165700Z
UID:20260421T120000-87417@law.utexas.edu
SUMMARY:Journal Leadership Transition Meeting
DESCRIPTION:<p>Join SAO for a mandatory  meeting for all new incoming
  journal leadership!</p>If you need an accommodation to participate in
  this event, please contact the event sponsor or the Texas Law Special
  Events Office at specialevents@law.utexas.edu no later than seven
  business days prior to the event.
X-ALT-DESC;FMTTYPE=text/html:<p>Join SAO for a mandatory  meeting for all
  new incoming journal leadership!</p><p>If you need an accommodation to
  participate in this event, please contact the
              event sponsor or the Texas Law Special Events Office at <a
  href="mailto:specialevents@law.utexas.edu">specialevents@law.utexas.edu</
  a> no later than seven business days prior to the event.</p>
LOCATION:TNH 2.137 - Gayle Classroom
URL:https://law.utexas.edu/calendar/2026/04/21/87417/
CLASS:PUBLIC
STATUS:CONFIRMED
END:VEVENT
BEGIN:VEVENT
DTSTART;VALUE=DATE-TIME;TZID=US/Central:20260421T120000
DTEND;VALUE=DATE-TIME;TZID=US/Central:20260421T125000
DTSTAMP:20260419T120600Z
CREATED:20260303T165700Z
LAST-MODIFIED:20260303T165700Z
UID:20260421T120000-87418@law.utexas.edu
SUMMARY:Journal Leadership Transition Meeting
DESCRIPTION:<p>Join SAO for a mandatory  meeting for all new incoming
  journal leadership!</p>If you need an accommodation to participate in
  this event, please contact the event sponsor or the Texas Law Special
  Events Office at specialevents@law.utexas.edu no later than seven
  business days prior to the event.
X-ALT-DESC;FMTTYPE=text/html:<p>Join SAO for a mandatory  meeting for all
  new incoming journal leadership!</p><p>If you need an accommodation to
  participate in this event, please contact the
              event sponsor or the Texas Law Special Events Office at <a
  href="mailto:specialevents@law.utexas.edu">specialevents@law.utexas.edu</
  a> no later than seven business days prior to the event.</p>
LOCATION:TNH 2.137 - Gayle Classroom
URL:https://law.utexas.edu/calendar/2026/04/21/87418/
CLASS:PUBLIC
STATUS:CONFIRMED
END:VEVENT
BEGIN:VEVENT
DTSTART;VALUE=DATE-TIME;TZID=US/Central:20260422T083000
DTEND;VALUE=DATE-TIME;TZID=US/Central:20260422T103000
DTSTAMP:20260419T120600Z
CREATED:20260407T180600Z
LAST-MODIFIED:20260407T180600Z
UID:20260422T083000-88137@law.utexas.edu
SUMMARY:Brewing Up Success
DESCRIPTION:<p>Stop by the Atrium to grab some Creature Coffee and
  breakfast so that you DO-NUT stress about finals. Love\, SAO</p>If you
  need an accommodation to participate in this event, please contact the
  event sponsor or the Texas Law Special Events Office at
  specialevents@law.utexas.edu no later than seven business days prior to
  the event.
X-ALT-DESC;FMTTYPE=text/html:<p>Stop by the Atrium to grab some Creature
  Coffee and breakfast so that you DO-NUT stress about finals. Love\,
  SAO</p><p>If you need an accommodation to participate in this event,
  please contact the
                                          event sponsor
  or the Texas Law Special Events Office at <a
  href="mailto:specialevents@law.utexas.edu">specialevents@law.utexas.edu</
  a> no later than seven business days prior to the event.</p>
LOCATION:TNH 2.100 - Susman Godfrey Atrium
URL:https://law.utexas.edu/calendar/2026/04/22/88137/
CLASS:PUBLIC
STATUS:CONFIRMED
END:VEVENT
BEGIN:VEVENT
DTSTART;VALUE=DATE-TIME;TZID=US/Central:20260423T143000
DTEND;VALUE=DATE-TIME;TZID=US/Central:20260423T163000
DTSTAMP:20260419T120600Z
CREATED:20260416T151200Z
LAST-MODIFIED:20260416T151200Z
UID:20260423T143000-88318@law.utexas.edu
SUMMARY:Body Doubling Study Session
DESCRIPTION:<p>This accountability session will provide you a quiet space
  to help you stay focused\, engaged\, and motivated to achieve your
  studying goals. This is a 120-minute structured session with limited
  seats available. Snacks will be provided. RSVP using the link.</p>If you
  need an accommodation to participate in this event, please contact the
  event sponsor or the Texas Law Special Events Office at
  specialevents@law.utexas.edu no later than seven business days prior to
  the event.
X-ALT-DESC;FMTTYPE=text/html:<p>This accountability session will provide
  you a quiet space to help you stay focused\, engaged\, and motivated to
  achieve your studying goals. This is a 120-minute structured session with
  limited seats available. Snacks will be provided. RSVP using the
  link.</p><p>If you need an accommodation to participate in this event,
  please contact the
                                          event sponsor
  or the Texas Law Special Events Office at <a
  href="mailto:specialevents@law.utexas.edu">specialevents@law.utexas.edu</
  a> no later than seven business days prior to the event.</p>
URL:https://law.utexas.edu/calendar/2026/04/23/88318/
CLASS:PUBLIC
STATUS:CONFIRMED
END:VEVENT
BEGIN:VEVENT
DTSTART;VALUE=DATE-TIME;TZID=US/Central:20260428T083000
DTEND;VALUE=DATE-TIME;TZID=US/Central:20260428T173000
DTSTAMP:20260419T120600Z
CREATED:20260416T195600Z
LAST-MODIFIED:20260416T195700Z
UID:20260428T083000-88320@law.utexas.edu
SUMMARY:Body Doubling Study Session
DESCRIPTION:<p>This accountability session will provide a quiet space to
  help you stay focused\, engaged\, and motivated as you work toward your
  study goals. The session will run throughout the day\, allowing you to
  join and use the space whenever it works best for you. </p>
  <p>Snacks
  will be provided.</p>
  <p>RSVP using the link.</p>If you need an
  accommodation to participate in this event, please contact the event
  sponsor or the Texas Law Special Events Office at
  specialevents@law.utexas.edu no later than seven business days prior to
  the event.
X-ALT-DESC;FMTTYPE=text/html:<p>This accountability session will provide
  a quiet space to help you stay focused\, engaged\, and motivated as you
  work toward your study goals. The session will run throughout the day\,
  allowing you to join and use the space whenever it works best for you.
  </p>
  <p>Snacks will be provided.</p>
  <p>RSVP using the link.</p><p>If
  you need an accommodation to participate in this event, please contact
  the
                                          event sponsor or the Texas
  Law Special Events Office at <a
  href="mailto:specialevents@law.utexas.edu">specialevents@law.utexas.edu</
  a> no later than seven business days prior to the event.</p>
LOCATION:TNH 2.137 - Gayle Classroom
URL:https://law.utexas.edu/calendar/2026/04/28/88320/
CLASS:PUBLIC
STATUS:CONFIRMED
END:VEVENT
BEGIN:VEVENT
DTSTART;VALUE=DATE-TIME;TZID=US/Central:20260509T153000
DTEND;VALUE=DATE-TIME;TZID=US/Central:20260509T173000
DTSTAMP:20260419T120600Z
CREATED:20260127T165800Z
LAST-MODIFIED:20260209T161700Z
UID:20260509T153000-86377@law.utexas.edu
SUMMARY:Sunflower Ceremony
DESCRIPTION:<p>Join us at the Sunflower Ceremony to celebrate the Class
  of 2026.</p>If you need an accommodation to participate in this event,
  please contact the event sponsor or the Texas Law Special Events Office
  at specialevents@law.utexas.edu no later than seven business days prior
  to the event.
X-ALT-DESC;FMTTYPE=text/html:<p>Join us at the Sunflower Ceremony to
  celebrate the Class of 2026.</p><p>If you need an accommodation to
  participate in this event, please contact the
              event sponsor or the Texas Law Special Events Office at <a
  href="mailto:specialevents@law.utexas.edu">specialevents@law.utexas.edu</
  a> no later than seven business days prior to the event.</p>
LOCATION:
URL:https://law.utexas.edu/calendar/2026/05/09/86377/
CLASS:PUBLIC
STATUS:CONFIRMED
END:VEVENT
END:VCALENDAR