BEGIN:VCALENDAR
VERSION:2.0
PRODID:-//UNIVERSITY OF TEXAS SCHOOL OF LAW//NONSGML Events Calendar v1.0//EN
X-WR-CALNAME:Texas Law - Events Calendar - William Wayne Justice Center for Public Interest Law
X-WR-TIMEZONE:America/Chicago
BEGIN:VTIMEZONE
TZID:US/Central
X-LIC-LOCATION:America/Chicago
BEGIN:DAYLIGHT
TZOFFSETFROM:-0600
TZOFFSETTO:-0500
TZNAME:CDT
DTSTART:19700308T020000
RRULE:FREQ=YEARLY;BYMONTH=3;BYDAY=2SU
END:DAYLIGHT
BEGIN:STANDARD
TZOFFSETFROM:-0500
TZOFFSETTO:-0600
TZNAME:CST
DTSTART:19701101T020000
RRULE:FREQ=YEARLY;BYMONTH=11;BYDAY=1SU
END:STANDARD
END:VTIMEZONE
BEGIN:VEVENT
DTSTART;VALUE=DATE-TIME;TZID=US/Central:20260911T131500
DTEND;VALUE=DATE-TIME;TZID=US/Central:20260911T163000
DTSTAMP:20260419T120600Z
CREATED:20260311T191300Z
LAST-MODIFIED:20260311T191300Z
UID:20260911T131500-87657@law.utexas.edu
SUMMARY:Change It Up! 2026
DESCRIPTION:<p>Details coming soon.</p>If you need an accommodation to
  participate in this event, please contact the event sponsor or the Texas
  Law Special Events Office at specialevents@law.utexas.edu no later than
  seven business days prior to the event.
X-ALT-DESC;FMTTYPE=text/html:<p>Details coming soon.</p><p>If you need an
  accommodation to participate in this event, please contact the
                               event sponsor or the Texas Law Special
  Events Office at <a
  href="mailto:specialevents@law.utexas.edu">specialevents@law.utexas.edu</
  a> no later than seven business days prior to the event.</p>
LOCATION:TNH 2.100 - Susman Godfrey Atrium
URL:https://law.utexas.edu/calendar/2026/09/11/87657/
CLASS:PUBLIC
STATUS:CONFIRMED
END:VEVENT
END:VCALENDAR