BEGIN:VCALENDAR
VERSION:2.0
PRODID:-//UNIVERSITY OF TEXAS SCHOOL OF LAW//NONSGML Events Calendar v1.0//EN
X-WR-TIMEZONE:America/Chicago
BEGIN:VTIMEZONE
TZID:US/Central
X-LIC-LOCATION:America/Chicago
BEGIN:DAYLIGHT
TZOFFSETFROM:-0600
TZOFFSETTO:-0500
TZNAME:CDT
DTSTART:19700308T020000
RRULE:FREQ=YEARLY;BYMONTH=3;BYDAY=2SU
END:DAYLIGHT
BEGIN:STANDARD
TZOFFSETFROM:-0500
TZOFFSETTO:-0600
TZNAME:CST
DTSTART:19701101T020000
RRULE:FREQ=YEARLY;BYMONTH=11;BYDAY=1SU
END:STANDARD
END:VTIMEZONE
BEGIN:VEVENT
DTSTART;TZID=US/Central:20100823T120000
DTEND;TZID=US/Central:20100823T120000

DTSTAMP:20260425T012100Z
CREATED:20100812T204300Z
LAST-MODIFIED:20100820T140500Z
UID:20100823T000000-8705@law.utexas.edu
SUMMARY:Peggy Browning Fund Conf.-Apply by 8/23
DESCRIPTION:<p>The Peggy Browning Fund's 12th Annual National Law Students Workers' Rights Conference takes place October 15-16, 2010 in Silver Spring, MD. The University of Texas School of Law may nominate students to attend the conference and the Peggy Browning Fund will cover on-site meals and lodging expenses as well as reasonable airfare for one nominated student.</p>
  <p>To be considered for nomination, please submit a brief statement of interest regarding why you want to attend the conference and complete the registration form, available online at <a href="http://www.utexas.edu/law/career/temporary/PBFConf2010.doc,">http://www.utexas.edu/law/career/temporary/PBFConf2010.doc,</a> and return to Nicole Clark in the CSO at nclark@law.utexas.edu by noon on Monday, August 23, 2010.</p>
  <p>The selection committee will consider such factors as your demonstrated interest in either workers' rights issues or public interest law and whether you have previously attended the conference. If you are selected as a nominee, you will need to submit your registration form to the Peggy Browning fund by Thursday, August 26, 2010 to be considered for funding. Please note that registration and funding is administered on a first-come, first-served basis.   </p>
  <p>One travel scholarship may be available to UT Law students. The CSO will notify nominees about available funds once the nominees are selected.  </p>\n\nIf you need an accommodation to participate in this event, please contact the event sponsor or the Texas Law Special Events Office at specialevents@law.utexas.edu no later than seven business days prior to the event.
X-ALT-DESC;FMTTYPE=text/html:<p>The Peggy Browning Fund's 12th Annual National Law Students Workers' Rights Conference takes place October 15-16, 2010 in Silver Spring, MD. The University of Texas School of Law may nominate students to attend the conference and the Peggy Browning Fund will cover on-site meals and lodging expenses as well as reasonable airfare for one nominated student.</p>
  <p>To be considered for nomination, please submit a brief statement of interest regarding why you want to attend the conference and complete the registration form, available online at <a href="http://www.utexas.edu/law/career/temporary/PBFConf2010.doc,">http://www.utexas.edu/law/career/temporary/PBFConf2010.doc,</a> and return to Nicole Clark in the CSO at nclark@law.utexas.edu by noon on Monday, August 23, 2010.</p>
  <p>The selection committee will consider such factors as your demonstrated interest in either workers' rights issues or public interest law and whether you have previously attended the conference. If you are selected as a nominee, you will need to submit your registration form to the Peggy Browning fund by Thursday, August 26, 2010 to be considered for funding. Please note that registration and funding is administered on a first-come, first-served basis.   </p>
  <p>One travel scholarship may be available to UT Law students. The CSO will notify nominees about available funds once the nominees are selected.  </p><p>If you need an accommodation to participate in this event, please contact the event
                                          event sponsor or the Texas Law Special Events Office at <a href="mailto:specialevents@law.utexas.edu">specialevents@law.utexas.edu</a> no later than seven business days prior to the event.</p>
CATEGORIES:Other

URL:http://law.utexas.edu/calendar/2010/08/23/8705/
CLASS:PUBLIC
STATUS:CONFIRMED
COMMENT:Please contact Nicole Clark in the CSO at 512-232-1160 or <a href="mailto:nclark@law.utexas.edu">nclark@law.utexas.edu</a>.
END:VEVENT
END:VCALENDAR