BEGIN:VCALENDAR
VERSION:2.0
PRODID:-//UNIVERSITY OF TEXAS SCHOOL OF LAW//NONSGML Events Calendar v1.0//EN
X-WR-TIMEZONE:America/Chicago
BEGIN:VTIMEZONE
TZID:US/Central
X-LIC-LOCATION:America/Chicago
BEGIN:DAYLIGHT
TZOFFSETFROM:-0600
TZOFFSETTO:-0500
TZNAME:CDT
DTSTART:19700308T020000
RRULE:FREQ=YEARLY;BYMONTH=3;BYDAY=2SU
END:DAYLIGHT
BEGIN:STANDARD
TZOFFSETFROM:-0500
TZOFFSETTO:-0600
TZNAME:CST
DTSTART:19701101T020000
RRULE:FREQ=YEARLY;BYMONTH=11;BYDAY=1SU
END:STANDARD
END:VTIMEZONE
BEGIN:VEVENT
DTSTART;TZID=US/Central:20100830T120000
DTEND;VALUE=DATE-TIME;TZID=US/Central:20100830T140000

DTSTAMP:20260425T012000Z
CREATED:20100803T190900Z
LAST-MODIFIED:20100803T193200Z
UID:20100830T120000-8467@law.utexas.edu
SUMMARY:EIC/ME Meeting
DESCRIPTION:<p>Editors in chief and managing editors for student journals to meet with various Law School administrators to discuss the business of running journals.</p>\n\nIf you need an accommodation to participate in this event, please contact the event sponsor or the Texas Law Special Events Office at specialevents@law.utexas.edu no later than seven business days prior to the event.
X-ALT-DESC;FMTTYPE=text/html:<p>Editors in chief and managing editors for student journals to meet with various Law School administrators to discuss the business of running journals.</p><p>If you need an accommodation to participate in this event, please contact the event
                                          event sponsor or the Texas Law Special Events Office at <a href="mailto:specialevents@law.utexas.edu">specialevents@law.utexas.edu</a> no later than seven business days prior to the event.</p>
CATEGORIES:Lunch
LOCATION:TNH 2.111 - Sheffield-Massey Room
URL:http://law.utexas.edu/calendar/2010/08/30/8467/
CLASS:PUBLIC
STATUS:CONFIRMED
COMMENT:contact Paul Goldman at (512) 232-1149
END:VEVENT
END:VCALENDAR