BEGIN:VCALENDAR
VERSION:2.0
PRODID:-//UNIVERSITY OF TEXAS SCHOOL OF LAW//NONSGML Events Calendar v1.0//EN
X-WR-TIMEZONE:America/Chicago
BEGIN:VTIMEZONE
TZID:US/Central
X-LIC-LOCATION:America/Chicago
BEGIN:DAYLIGHT
TZOFFSETFROM:-0600
TZOFFSETTO:-0500
TZNAME:CDT
DTSTART:19700308T020000
RRULE:FREQ=YEARLY;BYMONTH=3;BYDAY=2SU
END:DAYLIGHT
BEGIN:STANDARD
TZOFFSETFROM:-0500
TZOFFSETTO:-0600
TZNAME:CST
DTSTART:19701101T020000
RRULE:FREQ=YEARLY;BYMONTH=11;BYDAY=1SU
END:STANDARD
END:VTIMEZONE
BEGIN:VEVENT
DTSTART;TZID=US/Central:20100902T143000
DTEND;VALUE=DATE-TIME;TZID=US/Central:20100902T163000

DTSTAMP:20260424T234600Z
CREATED:20100901T213500Z
LAST-MODIFIED:20100901T213900Z
UID:20100902T143000-8849@law.utexas.edu
SUMMARY:Texas BLE Info Session for 1L's
DESCRIPTION:<p>Lori Adelman, the Director of Character and Fitness at the BLE will be at the Law School on September 2 to explain the Declaration of Intent to Study Law in Texas.  All first year students intending to practice in Texas must complete the Declaration by October 1, 2010. Sections 1, 3A and 3C will meet at 2:30 pm.  Sections 2, 3B, 3D and 4 will meet at 3:30 pm.  Both sessions will be held in the Francis Auditorium (TNH 2.114). This meeting is incredibly informative and will let you know exactly what you must include on the Declaration, particularly in the character and fitness section</p>\n\nIf you need an accommodation to participate in this event, please contact the event sponsor or the Texas Law Special Events Office at specialevents@law.utexas.edu no later than seven business days prior to the event.
X-ALT-DESC;FMTTYPE=text/html:<p>Lori Adelman, the Director of Character and Fitness at the BLE will be at the Law School on September 2 to explain the Declaration of Intent to Study Law in Texas.  All first year students intending to practice in Texas must complete the Declaration by October 1, 2010. Sections 1, 3A and 3C will meet at 2:30 pm.  Sections 2, 3B, 3D and 4 will meet at 3:30 pm.  Both sessions will be held in the Francis Auditorium (TNH 2.114). This meeting is incredibly informative and will let you know exactly what you must include on the Declaration, particularly in the character and fitness section</p><p>If you need an accommodation to participate in this event, please contact the event
                                          event sponsor or the Texas Law Special Events Office at <a href="mailto:specialevents@law.utexas.edu">specialevents@law.utexas.edu</a> no later than seven business days prior to the event.</p>
CATEGORIES:Workshop / Training Program
LOCATION:TNH 2.114 - Francis Auditorium
URL:http://law.utexas.edu/calendar/2010/09/02/8849/
CLASS:PUBLIC
STATUS:CONFIRMED

END:VEVENT
END:VCALENDAR