BEGIN:VCALENDAR
VERSION:2.0
PRODID:-//UNIVERSITY OF TEXAS SCHOOL OF LAW//NONSGML Events Calendar v1.0//EN
X-WR-TIMEZONE:America/Chicago
BEGIN:VTIMEZONE
TZID:US/Central
X-LIC-LOCATION:America/Chicago
BEGIN:DAYLIGHT
TZOFFSETFROM:-0600
TZOFFSETTO:-0500
TZNAME:CDT
DTSTART:19700308T020000
RRULE:FREQ=YEARLY;BYMONTH=3;BYDAY=2SU
END:DAYLIGHT
BEGIN:STANDARD
TZOFFSETFROM:-0500
TZOFFSETTO:-0600
TZNAME:CST
DTSTART:19701101T020000
RRULE:FREQ=YEARLY;BYMONTH=11;BYDAY=1SU
END:STANDARD
END:VTIMEZONE
BEGIN:VEVENT
DTSTART;TZID=US/Central:20100903T080000
DTEND;VALUE=DATE-TIME;TZID=US/Central:20100903T170000

DTSTAMP:20260424T234600Z
CREATED:20100811T195300Z
LAST-MODIFIED:20100811T195300Z
UID:20100903T080000-8690@law.utexas.edu
SUMMARY:Fall 2010 Course Packets Available
DESCRIPTION:<p>University Duplicating Service will be on-site selling Fall 2010 course packets in the Mail &amp; Supply Department (TNH 1.207) beginning Friday, August 20th – Friday, September 3rd.  Their hours will be from 8am-5pm (closed for lunch from 12-1pm).
  </p>\n\nIf you need an accommodation to participate in this event, please contact the event sponsor or the Texas Law Special Events Office at specialevents@law.utexas.edu no later than seven business days prior to the event.
X-ALT-DESC;FMTTYPE=text/html:<p>University Duplicating Service will be on-site selling Fall 2010 course packets in the Mail &amp; Supply Department (TNH 1.207) beginning Friday, August 20th – Friday, September 3rd.  Their hours will be from 8am-5pm (closed for lunch from 12-1pm).
  </p><p>If you need an accommodation to participate in this event, please contact the event
                                          event sponsor or the Texas Law Special Events Office at <a href="mailto:specialevents@law.utexas.edu">specialevents@law.utexas.edu</a> no later than seven business days prior to the event.</p>

LOCATION:TNH 1.207
URL:http://law.utexas.edu/calendar/2010/09/03/8690/
CLASS:PUBLIC
STATUS:CONFIRMED

END:VEVENT
END:VCALENDAR