BEGIN:VCALENDAR
VERSION:2.0
PRODID:-//UNIVERSITY OF TEXAS SCHOOL OF LAW//NONSGML Events Calendar v1.0//EN
X-WR-TIMEZONE:America/Chicago
BEGIN:VTIMEZONE
TZID:US/Central
X-LIC-LOCATION:America/Chicago
BEGIN:DAYLIGHT
TZOFFSETFROM:-0600
TZOFFSETTO:-0500
TZNAME:CDT
DTSTART:19700308T020000
RRULE:FREQ=YEARLY;BYMONTH=3;BYDAY=2SU
END:DAYLIGHT
BEGIN:STANDARD
TZOFFSETFROM:-0500
TZOFFSETTO:-0600
TZNAME:CST
DTSTART:19701101T020000
RRULE:FREQ=YEARLY;BYMONTH=11;BYDAY=1SU
END:STANDARD
END:VTIMEZONE
BEGIN:VEVENT
DTSTART;TZID=US/Central:20100907T173000
DTEND;VALUE=DATE-TIME;TZID=US/Central:20100907T183000

DTSTAMP:20260424T234600Z
CREATED:20100901T233700Z
LAST-MODIFIED:20100902T190000Z
UID:20100907T173000-8850@law.utexas.edu
SUMMARY:IPLS Meeting
DESCRIPTION:<p>The Intellectual Property Law Society will host its next meeting TUESDAY,
  9/07/10.  New members are welcome to attend.</p>
  <p>Firm:  Baker Botts
  Speaker:  Kevin Meek
  Topic:  Introduction to IP law and Careers in IP
  Date:  9/07/10
  Time:  5:30 pm - 6:30 pm
  Room:  3.124
  Food:  Maudie's (Tex-Mex)</p>
  <p>Please complete the food survey so we can plan for the right amount of food:
  <a href="http://www.surveymonkey.com/s/RJWSD7B">http://www.surveymonkey.com/s/RJWSD7B</a></p>\n\nIf you need an accommodation to participate in this event, please contact the event sponsor or the Texas Law Special Events Office at specialevents@law.utexas.edu no later than seven business days prior to the event.
X-ALT-DESC;FMTTYPE=text/html:<p>The Intellectual Property Law Society will host its next meeting TUESDAY,
  9/07/10.  New members are welcome to attend.</p>
  <p>Firm:  Baker Botts
  Speaker:  Kevin Meek
  Topic:  Introduction to IP law and Careers in IP
  Date:  9/07/10
  Time:  5:30 pm - 6:30 pm
  Room:  3.124
  Food:  Maudie's (Tex-Mex)</p>
  <p>Please complete the food survey so we can plan for the right amount of food:
  <a href="http://www.surveymonkey.com/s/RJWSD7B">http://www.surveymonkey.com/s/RJWSD7B</a></p><p>If you need an accommodation to participate in this event, please contact the event
                                          event sponsor or the Texas Law Special Events Office at <a href="mailto:specialevents@law.utexas.edu">specialevents@law.utexas.edu</a> no later than seven business days prior to the event.</p>
CATEGORIES:Meeting
LOCATION:TNH 3.124 - Neathery Classroom
URL:http://law.utexas.edu/calendar/2010/09/07/8850/
CLASS:PUBLIC
STATUS:CONFIRMED

END:VEVENT
END:VCALENDAR