BEGIN:VCALENDAR
VERSION:2.0
PRODID:-//UNIVERSITY OF TEXAS SCHOOL OF LAW//NONSGML Events Calendar v1.0//EN
X-WR-TIMEZONE:America/Chicago
BEGIN:VTIMEZONE
TZID:US/Central
X-LIC-LOCATION:America/Chicago
BEGIN:DAYLIGHT
TZOFFSETFROM:-0600
TZOFFSETTO:-0500
TZNAME:CDT
DTSTART:19700308T020000
RRULE:FREQ=YEARLY;BYMONTH=3;BYDAY=2SU
END:DAYLIGHT
BEGIN:STANDARD
TZOFFSETFROM:-0500
TZOFFSETTO:-0600
TZNAME:CST
DTSTART:19701101T020000
RRULE:FREQ=YEARLY;BYMONTH=11;BYDAY=1SU
END:STANDARD
END:VTIMEZONE
BEGIN:VEVENT
DTSTART;TZID=US/Central:20100908T171500
DTEND;VALUE=DATE-TIME;TZID=US/Central:20100908T181500

DTSTAMP:20260425T012000Z
CREATED:20100824T145300Z
LAST-MODIFIED:20100826T153500Z
UID:20100908T171500-8787@law.utexas.edu
SUMMARY:CIA - OLO Info Session
DESCRIPTION:<p>The deadline to apply for a CIA-OLO position is Wednesday, September 1. For more information about applying for a CIA internship or postgraduate position, please contact Denyse Demel, Government Career Counselor, in the CSO. </p>\n\nIf you need an accommodation to participate in this event, please contact the event sponsor or the Texas Law Special Events Office at specialevents@law.utexas.edu no later than seven business days prior to the event.
X-ALT-DESC;FMTTYPE=text/html:<p>The deadline to apply for a CIA-OLO position is Wednesday, September 1. For more information about applying for a CIA internship or postgraduate position, please contact Denyse Demel, Government Career Counselor, in the CSO. </p><p>If you need an accommodation to participate in this event, please contact the event
                                          event sponsor or the Texas Law Special Events Office at <a href="mailto:specialevents@law.utexas.edu">specialevents@law.utexas.edu</a> no later than seven business days prior to the event.</p>
CATEGORIES:Meeting
LOCATION:SRH 3.122 in the LBJ School
URL:http://law.utexas.edu/calendar/2010/09/08/8787/
CLASS:PUBLIC
STATUS:CONFIRMED
COMMENT:Please contact Denyse Demel in the CSO at <a href="mailto:ddemel@law.utexas.edu">ddemel@law.utexas.edu</a> or 512-232-1162.
END:VEVENT
END:VCALENDAR