BEGIN:VCALENDAR
VERSION:2.0
PRODID:-//UNIVERSITY OF TEXAS SCHOOL OF LAW//NONSGML Events Calendar v1.0//EN
X-WR-TIMEZONE:America/Chicago
BEGIN:VTIMEZONE
TZID:US/Central
X-LIC-LOCATION:America/Chicago
BEGIN:DAYLIGHT
TZOFFSETFROM:-0600
TZOFFSETTO:-0500
TZNAME:CDT
DTSTART:19700308T020000
RRULE:FREQ=YEARLY;BYMONTH=3;BYDAY=2SU
END:DAYLIGHT
BEGIN:STANDARD
TZOFFSETFROM:-0500
TZOFFSETTO:-0600
TZNAME:CST
DTSTART:19701101T020000
RRULE:FREQ=YEARLY;BYMONTH=11;BYDAY=1SU
END:STANDARD
END:VTIMEZONE
BEGIN:VEVENT
DTSTART;TZID=US/Central:20100908T153000
DTEND;VALUE=DATE-TIME;TZID=US/Central:20100908T163000

DTSTAMP:20260425T012100Z
CREATED:20100905T164900Z
LAST-MODIFIED:20100905T231000Z
UID:20100908T153000-8861@law.utexas.edu
SUMMARY:Street Law Orientation
DESCRIPTION:<p>FALL 2010 STREET LAW MEETINGS
  Wed. Sept 8, room 2.139, 3:30-4:30pm  
  OR  
  Thur. Sept 9, room 2.137, 5:30-6:30pm
  Please bring your $15 annual membership dues to the meeting so that you can sign up for a lesson.</p>
  <p>Too many people are uneducated about their rights.  You can help.      </p>
  <p>Originally founded at the Georgetown Law Center in 1972, Street Law sends law students and lawyers into local public schools to teach practical lessons about law, democracy, and human rights.  An affiliate of the national organization, the  Street Law Program at the University of Texas is designed to teach Austin students about practical aspects of the law and the legal system.  Our lessons range from basic constitutional law to teen dating violence. </p>
  <p>Street Law is an exciting opportunity to escape the law school grind by getting involved in the Austin community while developing dynamic public speaking skills.  In addition to our Street Law curriculum, we have developed a new mentorship program; interested members can volunteer to mentor a middle school student.  </p>
  <p>We provide step by step, objective-driven lesson plans, teaching materials, and training.  No prior teaching experience is required, and we welcome veteran teachers with open arms.  All of our hour-long lessons are scheduled for Fridays and taught in groups of (3) Street Law Members.  While you're only required to teach one lesson a semester, you may, of course, sign up for as many lessons as you would like. </p>
  <p>We hope you'll stop by one of our two meetings to learn more about our organization and sign up for a lesson.  Please bring your $15 annual dues (cash or check).  If you have any questions, please email director@streetlawtexas.org.</p>\n\nIf you need an accommodation to participate in this event, please contact the event sponsor or the Texas Law Special Events Office at specialevents@law.utexas.edu no later than seven business days prior to the event.
X-ALT-DESC;FMTTYPE=text/html:<p>FALL 2010 STREET LAW MEETINGS
  Wed. Sept 8, room 2.139, 3:30-4:30pm  
  OR  
  Thur. Sept 9, room 2.137, 5:30-6:30pm
  Please bring your $15 annual membership dues to the meeting so that you can sign up for a lesson.</p>
  <p>Too many people are uneducated about their rights.  You can help.      </p>
  <p>Originally founded at the Georgetown Law Center in 1972, Street Law sends law students and lawyers into local public schools to teach practical lessons about law, democracy, and human rights.  An affiliate of the national organization, the  Street Law Program at the University of Texas is designed to teach Austin students about practical aspects of the law and the legal system.  Our lessons range from basic constitutional law to teen dating violence. </p>
  <p>Street Law is an exciting opportunity to escape the law school grind by getting involved in the Austin community while developing dynamic public speaking skills.  In addition to our Street Law curriculum, we have developed a new mentorship program; interested members can volunteer to mentor a middle school student.  </p>
  <p>We provide step by step, objective-driven lesson plans, teaching materials, and training.  No prior teaching experience is required, and we welcome veteran teachers with open arms.  All of our hour-long lessons are scheduled for Fridays and taught in groups of (3) Street Law Members.  While you're only required to teach one lesson a semester, you may, of course, sign up for as many lessons as you would like. </p>
  <p>We hope you'll stop by one of our two meetings to learn more about our organization and sign up for a lesson.  Please bring your $15 annual dues (cash or check).  If you have any questions, please email director@streetlawtexas.org.</p><p>If you need an accommodation to participate in this event, please contact the event
                                          event sponsor or the Texas Law Special Events Office at <a href="mailto:specialevents@law.utexas.edu">specialevents@law.utexas.edu</a> no later than seven business days prior to the event.</p>
CATEGORIES:Meeting
LOCATION:TNH 2.139 - Wilson Classroom
URL:http://law.utexas.edu/calendar/2010/09/08/8861/
CLASS:PUBLIC
STATUS:CONFIRMED

END:VEVENT
END:VCALENDAR