BEGIN:VCALENDAR
VERSION:2.0
PRODID:-//UNIVERSITY OF TEXAS SCHOOL OF LAW//NONSGML Events Calendar v1.0//EN
X-WR-TIMEZONE:America/Chicago
BEGIN:VTIMEZONE
TZID:US/Central
X-LIC-LOCATION:America/Chicago
BEGIN:DAYLIGHT
TZOFFSETFROM:-0600
TZOFFSETTO:-0500
TZNAME:CDT
DTSTART:19700308T020000
RRULE:FREQ=YEARLY;BYMONTH=3;BYDAY=2SU
END:DAYLIGHT
BEGIN:STANDARD
TZOFFSETFROM:-0500
TZOFFSETTO:-0600
TZNAME:CST
DTSTART:19701101T020000
RRULE:FREQ=YEARLY;BYMONTH=11;BYDAY=1SU
END:STANDARD
END:VTIMEZONE
BEGIN:VEVENT
DTSTART;TZID=US/Central:20100908T153000
DTEND;VALUE=DATE-TIME;TZID=US/Central:20100908T160000

DTSTAMP:20260425T012100Z
CREATED:20100906T185800Z
LAST-MODIFIED:20100906T205500Z
UID:20100908T153000-8864@law.utexas.edu
SUMMARY:TLF - 1L Representative Elections Inform
DESCRIPTION:<p>The Texas Law Fellowships (TLF) will host two information sessions for 1Ls interested in serving on the 2010-2011 TLF Board.  Both sessions will be held on Wednesday, September 8th, the first at 3:30PM in room TNH 2.140 and the second at 5PM in room TNH 2.140.  The TLF Board members will explain the work of the organization, the election process, and the responsibilities of 1L representatives.  For questions about the Information Sessions or if you are interested in running for a 1L Representative position, but you are unable to make one of the information sessions, please email Lindzi Timberlake (lindzitimberlake@gmail.com).  For more information about TLF visit www.texaslawfellowships.org.</p>\n\nIf you need an accommodation to participate in this event, please contact the event sponsor or the Texas Law Special Events Office at specialevents@law.utexas.edu no later than seven business days prior to the event.
X-ALT-DESC;FMTTYPE=text/html:<p>The Texas Law Fellowships (TLF) will host two information sessions for 1Ls interested in serving on the 2010-2011 TLF Board.  Both sessions will be held on Wednesday, September 8th, the first at 3:30PM in room TNH 2.140 and the second at 5PM in room TNH 2.140.  The TLF Board members will explain the work of the organization, the election process, and the responsibilities of 1L representatives.  For questions about the Information Sessions or if you are interested in running for a 1L Representative position, but you are unable to make one of the information sessions, please email Lindzi Timberlake (lindzitimberlake@gmail.com).  For more information about TLF visit www.texaslawfellowships.org.</p><p>If you need an accommodation to participate in this event, please contact the event
                                          event sponsor or the Texas Law Special Events Office at <a href="mailto:specialevents@law.utexas.edu">specialevents@law.utexas.edu</a> no later than seven business days prior to the event.</p>
CATEGORIES:Meeting
LOCATION:TNH 2.140 - Wright Classroom
URL:http://law.utexas.edu/calendar/2010/09/08/8864/
CLASS:PUBLIC
STATUS:CONFIRMED
COMMENT:Contact Lindzi Timberlake (lindzitimberlake@gmail.com)
END:VEVENT
END:VCALENDAR