BEGIN:VCALENDAR
VERSION:2.0
PRODID:-//UNIVERSITY OF TEXAS SCHOOL OF LAW//NONSGML Events Calendar v1.0//EN
X-WR-TIMEZONE:America/Chicago
BEGIN:VTIMEZONE
TZID:US/Central
X-LIC-LOCATION:America/Chicago
BEGIN:DAYLIGHT
TZOFFSETFROM:-0600
TZOFFSETTO:-0500
TZNAME:CDT
DTSTART:19700308T020000
RRULE:FREQ=YEARLY;BYMONTH=3;BYDAY=2SU
END:DAYLIGHT
BEGIN:STANDARD
TZOFFSETFROM:-0500
TZOFFSETTO:-0600
TZNAME:CST
DTSTART:19701101T020000
RRULE:FREQ=YEARLY;BYMONTH=11;BYDAY=1SU
END:STANDARD
END:VTIMEZONE
BEGIN:VEVENT
DTSTART;TZID=US/Central:20100910T113000
DTEND;VALUE=DATE-TIME;TZID=US/Central:20100910T144500

DTSTAMP:20260424T234600Z
CREATED:20100816T211200Z
LAST-MODIFIED:20100907T202300Z
UID:20100910T113000-8721@law.utexas.edu
SUMMARY:2010 Fall Litigation Institute
DESCRIPTION:<p>The Fall Litigation Institute is a 4-week hands-on, crash course in trial skills – from the basics of laying a foundation to advanced witness examination techniques. It is open to second- and third-year law students of all experience levels.  Registration begins at noon on August 27th and ends at 8:00 a.m. on September 7th.  For more information and for registration instructions, see www.law.utexas.edu/advocacy/fli.  </p>\n\nIf you need an accommodation to participate in this event, please contact the event sponsor or the Texas Law Special Events Office at specialevents@law.utexas.edu no later than seven business days prior to the event.
X-ALT-DESC;FMTTYPE=text/html:<p>The Fall Litigation Institute is a 4-week hands-on, crash course in trial skills – from the basics of laying a foundation to advanced witness examination techniques. It is open to second- and third-year law students of all experience levels.  Registration begins at noon on August 27th and ends at 8:00 a.m. on September 7th.  For more information and for registration instructions, see www.law.utexas.edu/advocacy/fli.  </p><p>If you need an accommodation to participate in this event, please contact the event
                                          event sponsor or the Texas Law Special Events Office at <a href="mailto:specialevents@law.utexas.edu">specialevents@law.utexas.edu</a> no later than seven business days prior to the event.</p>
CATEGORIES:Workshop / Training Program
LOCATION:TNH 2.114 - Francis Auditorium
URL:http://law.utexas.edu/calendar/2010/09/10/8721/
CLASS:PUBLIC
STATUS:CONFIRMED

END:VEVENT
END:VCALENDAR