BEGIN:VCALENDAR
VERSION:2.0
PRODID:-//UNIVERSITY OF TEXAS SCHOOL OF LAW//NONSGML Events Calendar v1.0//EN
X-WR-TIMEZONE:America/Chicago
BEGIN:VTIMEZONE
TZID:US/Central
X-LIC-LOCATION:America/Chicago
BEGIN:DAYLIGHT
TZOFFSETFROM:-0600
TZOFFSETTO:-0500
TZNAME:CDT
DTSTART:19700308T020000
RRULE:FREQ=YEARLY;BYMONTH=3;BYDAY=2SU
END:DAYLIGHT
BEGIN:STANDARD
TZOFFSETFROM:-0500
TZOFFSETTO:-0600
TZNAME:CST
DTSTART:19701101T020000
RRULE:FREQ=YEARLY;BYMONTH=11;BYDAY=1SU
END:STANDARD
END:VTIMEZONE
BEGIN:VEVENT
DTSTART;TZID=US/Central:20100911
DTEND;TZID=US/Central:20100912
X-MICROSOFT-CDO-ALLDAYEVENT:TRUE
X-FUNAMBOL-ALLDAY:TRUE
DTSTAMP:20260424T234600Z
CREATED:20100901T184200Z
LAST-MODIFIED:20100903T161800Z
UID:20100911T090000-8848@law.utexas.edu
SUMMARY:DEW
DESCRIPTION:<p>The diversity organizations at UT Law are committed to promoting the professional success of our members.  In connection with this goal, the Asian Law Students' Association, Chicano/Hispanic Law Students' Association, and the Thurgood Marshall Legal Society are hosting our third annual Diversity Education Weekend.  </p>
  <p>This year, DEW will be held on Friday and Saturday, September 10-11.</p>
  <p>September 10, 2010</p>
  <p>Reception Sponsored by Bracewell &amp; Giuliani LLP
  6:00 p.m. — 8:00 p.m.</p>
  <p>September 11, 2010
  Educational Panels Sponsored by Andrews Kurth LLP</p>
  <p>9:00 a.m. — 9:25 a.m.
  Breakfast: Opening Remarks by Dean Sager</p>
  <p>9:30 a.m. — 10:25 a.m.
  Panel: “Working Smarter, Not Harder:
  Studying Strategies, Exam Preparation, Balancing Stress</p>
  <p>10:30 a.m. — 11:25 a.m.
  Panel: “Mentoring and Relationship Building”</p>
  <p>11:30 p.m. — 12:25 p.m.
  Panel: “Class Prep 101”</p>
  <p>12:30 p.m. — 1:25 p.m.
  Lunch: “Law School Table Talks”
  Provided by Mangia’s</p>
  <p>1:30 p.m. — 2:25p.m.
  Panel: "The Importance of Legal Writing"</p>
  <p>2:30 p.m. — 3:35 p.m.
  Panel: “Building Your Legal Career”</p>
  <p>4:00 p.m. — 6:00 p.m.
  TMLS/CHLSA Tailgate Party</p>\n\nIf you need an accommodation to participate in this event, please contact the event sponsor or the Texas Law Special Events Office at specialevents@law.utexas.edu no later than seven business days prior to the event.
X-ALT-DESC;FMTTYPE=text/html:<p>The diversity organizations at UT Law are committed to promoting the professional success of our members.  In connection with this goal, the Asian Law Students' Association, Chicano/Hispanic Law Students' Association, and the Thurgood Marshall Legal Society are hosting our third annual Diversity Education Weekend.  </p>
  <p>This year, DEW will be held on Friday and Saturday, September 10-11.</p>
  <p>September 10, 2010</p>
  <p>Reception Sponsored by Bracewell &amp; Giuliani LLP
  6:00 p.m. — 8:00 p.m.</p>
  <p>September 11, 2010
  Educational Panels Sponsored by Andrews Kurth LLP</p>
  <p>9:00 a.m. — 9:25 a.m.
  Breakfast: Opening Remarks by Dean Sager</p>
  <p>9:30 a.m. — 10:25 a.m.
  Panel: “Working Smarter, Not Harder:
  Studying Strategies, Exam Preparation, Balancing Stress</p>
  <p>10:30 a.m. — 11:25 a.m.
  Panel: “Mentoring and Relationship Building”</p>
  <p>11:30 p.m. — 12:25 p.m.
  Panel: “Class Prep 101”</p>
  <p>12:30 p.m. — 1:25 p.m.
  Lunch: “Law School Table Talks”
  Provided by Mangia’s</p>
  <p>1:30 p.m. — 2:25p.m.
  Panel: "The Importance of Legal Writing"</p>
  <p>2:30 p.m. — 3:35 p.m.
  Panel: “Building Your Legal Career”</p>
  <p>4:00 p.m. — 6:00 p.m.
  TMLS/CHLSA Tailgate Party</p><p>If you need an accommodation to participate in this event, please contact the event
                                          event sponsor or the Texas Law Special Events Office at <a href="mailto:specialevents@law.utexas.edu">specialevents@law.utexas.edu</a> no later than seven business days prior to the event.</p>
CATEGORIES:Panel Discussion / Speaker Series
LOCATION:CCJ 2.300 - Jamail Pavilion
URL:http://law.utexas.edu/calendar/2010/09/11/8848/
CLASS:PUBLIC
STATUS:CONFIRMED
COMMENT:Contact Jennifer Ann Gillespie at chlsa.president@gmail.com.
END:VEVENT
END:VCALENDAR