BEGIN:VCALENDAR
VERSION:2.0
PRODID:-//UNIVERSITY OF TEXAS SCHOOL OF LAW//NONSGML Events Calendar v1.0//EN
X-WR-TIMEZONE:America/Chicago
BEGIN:VTIMEZONE
TZID:US/Central
X-LIC-LOCATION:America/Chicago
BEGIN:DAYLIGHT
TZOFFSETFROM:-0600
TZOFFSETTO:-0500
TZNAME:CDT
DTSTART:19700308T020000
RRULE:FREQ=YEARLY;BYMONTH=3;BYDAY=2SU
END:DAYLIGHT
BEGIN:STANDARD
TZOFFSETFROM:-0500
TZOFFSETTO:-0600
TZNAME:CST
DTSTART:19701101T020000
RRULE:FREQ=YEARLY;BYMONTH=11;BYDAY=1SU
END:STANDARD
END:VTIMEZONE
BEGIN:VEVENT
DTSTART;TZID=US/Central:20100913T153000
DTEND;VALUE=DATE-TIME;TZID=US/Central:20100913T163000

DTSTAMP:20260424T234600Z
CREATED:20100906T182000Z
LAST-MODIFIED:20100906T205500Z
UID:20100913T153000-8863@law.utexas.edu
SUMMARY:LSRJ meeting
DESCRIPTION:<p>Texas Law Students for Reproductive Justice will meet for the first time this year on Monday, Sept. 13th, at 3:30pm in rm. 3.127. Come learn about our upcoming events and how our group supports individuals' decisions to have children, not to have children, and to raise the children we have in healthy environments. SNACKS will be available.</p>\n\nIf you need an accommodation to participate in this event, please contact the event sponsor or the Texas Law Special Events Office at specialevents@law.utexas.edu no later than seven business days prior to the event.
X-ALT-DESC;FMTTYPE=text/html:<p>Texas Law Students for Reproductive Justice will meet for the first time this year on Monday, Sept. 13th, at 3:30pm in rm. 3.127. Come learn about our upcoming events and how our group supports individuals' decisions to have children, not to have children, and to raise the children we have in healthy environments. SNACKS will be available.</p><p>If you need an accommodation to participate in this event, please contact the event
                                          event sponsor or the Texas Law Special Events Office at <a href="mailto:specialevents@law.utexas.edu">specialevents@law.utexas.edu</a> no later than seven business days prior to the event.</p>
CATEGORIES:Meeting
LOCATION:TNH 3.127 - Roberts Classroom
URL:http://law.utexas.edu/calendar/2010/09/13/8863/
CLASS:PUBLIC
STATUS:CONFIRMED
COMMENT:email Ambrosia at AmbrosiaOrtiz@gmail.com
END:VEVENT
END:VCALENDAR