BEGIN:VCALENDAR
VERSION:2.0
PRODID:-//UNIVERSITY OF TEXAS SCHOOL OF LAW//NONSGML Events Calendar v1.0//EN
X-WR-TIMEZONE:America/Chicago
BEGIN:VTIMEZONE
TZID:US/Central
X-LIC-LOCATION:America/Chicago
BEGIN:DAYLIGHT
TZOFFSETFROM:-0600
TZOFFSETTO:-0500
TZNAME:CDT
DTSTART:19700308T020000
RRULE:FREQ=YEARLY;BYMONTH=3;BYDAY=2SU
END:DAYLIGHT
BEGIN:STANDARD
TZOFFSETFROM:-0500
TZOFFSETTO:-0600
TZNAME:CST
DTSTART:19701101T020000
RRULE:FREQ=YEARLY;BYMONTH=11;BYDAY=1SU
END:STANDARD
END:VTIMEZONE
BEGIN:VEVENT
DTSTART;TZID=US/Central:20100914T173000
DTEND;VALUE=DATE-TIME;TZID=US/Central:20100914T183000

DTSTAMP:20260424T234700Z
CREATED:20100826T212400Z
LAST-MODIFIED:20100909T195400Z
UID:20100914T173000-8827@law.utexas.edu
SUMMARY:Public Service Fall Party
DESCRIPTION:<p>The CSO, William Wayne Justice Center, and Rapoport Center invite the law school community to the Fifth Annual Public Service Fall Party. Come celebrate the public interest and government communities at the UT Law School and join other service-minded students, faculty, and administrators for refreshments and camaraderie. Here's a great chance to network and exchange ideas on building a career in the public interest and government sectors and promoting service at our law school. A fajita buffet will be served. Please RSVP by Monday, September 13, on <a href="https://law-utexas-csm.symplicity.com/students/">UT Law Symplicity</a> by selecting the "Events" tab. </p>\n\nIf you need an accommodation to participate in this event, please contact the event sponsor or the Texas Law Special Events Office at specialevents@law.utexas.edu no later than seven business days prior to the event.
X-ALT-DESC;FMTTYPE=text/html:<p>The CSO, William Wayne Justice Center, and Rapoport Center invite the law school community to the Fifth Annual Public Service Fall Party. Come celebrate the public interest and government communities at the UT Law School and join other service-minded students, faculty, and administrators for refreshments and camaraderie. Here's a great chance to network and exchange ideas on building a career in the public interest and government sectors and promoting service at our law school. A fajita buffet will be served. Please RSVP by Monday, September 13, on <a href="https://law-utexas-csm.symplicity.com/students/">UT Law Symplicity</a> by selecting the "Events" tab. </p><p>If you need an accommodation to participate in this event, please contact the event
                                          event sponsor or the Texas Law Special Events Office at <a href="mailto:specialevents@law.utexas.edu">specialevents@law.utexas.edu</a> no later than seven business days prior to the event.</p>
CATEGORIES:Reception
LOCATION:CCJ 2.300 - Jamail Pavilion
URL:http://law.utexas.edu/calendar/2010/09/14/8827/
CLASS:PUBLIC
STATUS:CONFIRMED
COMMENT:Please contact Sandra Valencia in the CSO at 512-232-1161 or <a href="mailto:svalencia@law.utexas.edu">svalencia@law.utexas.edu</a>.
END:VEVENT
END:VCALENDAR