BEGIN:VCALENDAR
VERSION:2.0
PRODID:-//UNIVERSITY OF TEXAS SCHOOL OF LAW//NONSGML Events Calendar v1.0//EN
X-WR-TIMEZONE:America/Chicago
BEGIN:VTIMEZONE
TZID:US/Central
X-LIC-LOCATION:America/Chicago
BEGIN:DAYLIGHT
TZOFFSETFROM:-0600
TZOFFSETTO:-0500
TZNAME:CDT
DTSTART:19700308T020000
RRULE:FREQ=YEARLY;BYMONTH=3;BYDAY=2SU
END:DAYLIGHT
BEGIN:STANDARD
TZOFFSETFROM:-0500
TZOFFSETTO:-0600
TZNAME:CST
DTSTART:19701101T020000
RRULE:FREQ=YEARLY;BYMONTH=11;BYDAY=1SU
END:STANDARD
END:VTIMEZONE
BEGIN:VEVENT
DTSTART;TZID=US/Central:20100914T153000


DTSTAMP:20260424T234700Z
CREATED:20100903T192200Z
LAST-MODIFIED:20100903T192200Z
UID:20100914T153000-8858@law.utexas.edu
SUMMARY:DVSSN Introductory Meeting
DESCRIPTION:<p>Domestic Violence Survivors Support Network is having our first meeting of the school year.  Come either Monday or Tuesday to find out how you can help survivors of domestic violence.  We will be discussing DVSSN's on-going work and our plans for the coming year.  We will also be enlisting volunteers for our up-coming projects.  See you there!</p>\n\nIf you need an accommodation to participate in this event, please contact the event sponsor or the Texas Law Special Events Office at specialevents@law.utexas.edu no later than seven business days prior to the event.
X-ALT-DESC;FMTTYPE=text/html:<p>Domestic Violence Survivors Support Network is having our first meeting of the school year.  Come either Monday or Tuesday to find out how you can help survivors of domestic violence.  We will be discussing DVSSN's on-going work and our plans for the coming year.  We will also be enlisting volunteers for our up-coming projects.  See you there!</p><p>If you need an accommodation to participate in this event, please contact the event
                                          event sponsor or the Texas Law Special Events Office at <a href="mailto:specialevents@law.utexas.edu">specialevents@law.utexas.edu</a> no later than seven business days prior to the event.</p>
CATEGORIES:Meeting
LOCATION:TNH 2.140 - Wright Classroom
URL:http://law.utexas.edu/calendar/2010/09/14/8858/
CLASS:PUBLIC
STATUS:CONFIRMED
COMMENT:Email the.dvssn@gmail.com
END:VEVENT
END:VCALENDAR