BEGIN:VCALENDAR
VERSION:2.0
PRODID:-//UNIVERSITY OF TEXAS SCHOOL OF LAW//NONSGML Events Calendar v1.0//EN
X-WR-TIMEZONE:America/Chicago
BEGIN:VTIMEZONE
TZID:US/Central
X-LIC-LOCATION:America/Chicago
BEGIN:DAYLIGHT
TZOFFSETFROM:-0600
TZOFFSETTO:-0500
TZNAME:CDT
DTSTART:19700308T020000
RRULE:FREQ=YEARLY;BYMONTH=3;BYDAY=2SU
END:DAYLIGHT
BEGIN:STANDARD
TZOFFSETFROM:-0500
TZOFFSETTO:-0600
TZNAME:CST
DTSTART:19701101T020000
RRULE:FREQ=YEARLY;BYMONTH=11;BYDAY=1SU
END:STANDARD
END:VTIMEZONE
BEGIN:VEVENT
DTSTART;TZID=US/Central:20100915T103000
DTEND;VALUE=DATE-TIME;TZID=US/Central:20100915T113000

DTSTAMP:20260424T234700Z
CREATED:20100910T161400Z
LAST-MODIFIED:20100910T194600Z
UID:20100915T103000-8891@law.utexas.edu
SUMMARY:Foreign Service Informational Session
DESCRIPTION:<p><a href="http://www.utexas.edu/lbj/directory/faculty/ron-mcmullen">Ambassador Ronald K. McMullen</a>, Diplomat in Residence at the LBJ School of Public Affairs, will speak about foreign service career opportunities, including those with the U.S. Department of State. This will be an informal event with a chance for you to ask your own questions on the topic. RSVP by Tuesday, September 14, on <a href="https://law-utexas-csm.symplicity.com/students/">UT Law Symplicity</a> by selecting the "Events" tab.</p>\n\nIf you need an accommodation to participate in this event, please contact the event sponsor or the Texas Law Special Events Office at specialevents@law.utexas.edu no later than seven business days prior to the event.
X-ALT-DESC;FMTTYPE=text/html:<p><a href="http://www.utexas.edu/lbj/directory/faculty/ron-mcmullen">Ambassador Ronald K. McMullen</a>, Diplomat in Residence at the LBJ School of Public Affairs, will speak about foreign service career opportunities, including those with the U.S. Department of State. This will be an informal event with a chance for you to ask your own questions on the topic. RSVP by Tuesday, September 14, on <a href="https://law-utexas-csm.symplicity.com/students/">UT Law Symplicity</a> by selecting the "Events" tab.</p><p>If you need an accommodation to participate in this event, please contact the event
                                          event sponsor or the Texas Law Special Events Office at <a href="mailto:specialevents@law.utexas.edu">specialevents@law.utexas.edu</a> no later than seven business days prior to the event.</p>
CATEGORIES:Panel Discussion / Speaker Series
LOCATION:Career Services Interview Suite
URL:http://law.utexas.edu/calendar/2010/09/15/8891/
CLASS:PUBLIC
STATUS:CONFIRMED
COMMENT:Please contact Denyse Demel in the CSO at <a href="mailto:ddemel@law.utexas.edu">ddemel@law.utexas.edu</a> or 512-232-1162.
END:VEVENT
END:VCALENDAR