BEGIN:VCALENDAR
VERSION:2.0
PRODID:-//UNIVERSITY OF TEXAS SCHOOL OF LAW//NONSGML Events Calendar v1.0//EN
X-WR-TIMEZONE:America/Chicago
BEGIN:VTIMEZONE
TZID:US/Central
X-LIC-LOCATION:America/Chicago
BEGIN:DAYLIGHT
TZOFFSETFROM:-0600
TZOFFSETTO:-0500
TZNAME:CDT
DTSTART:19700308T020000
RRULE:FREQ=YEARLY;BYMONTH=3;BYDAY=2SU
END:DAYLIGHT
BEGIN:STANDARD
TZOFFSETFROM:-0500
TZOFFSETTO:-0600
TZNAME:CST
DTSTART:19701101T020000
RRULE:FREQ=YEARLY;BYMONTH=11;BYDAY=1SU
END:STANDARD
END:VTIMEZONE
BEGIN:VEVENT
DTSTART;TZID=US/Central:20100916T083000
DTEND;VALUE=DATE-TIME;TZID=US/Central:20100916T093000

DTSTAMP:20260424T234600Z
CREATED:20100810T221000Z
LAST-MODIFIED:20100826T225400Z
UID:20100916T083000-8563@law.utexas.edu
SUMMARY:PS Table Talk Breakfast for Employers
DESCRIPTION:<p>Employers participating in Public Service Table Talk are invited to join UT Law administrators and faculty for breakfast so we may share information on new developments within the UT Law public service community. We also hope to exchange ideas on creating more opportunities for students to serve the public. </p>\n\nIf you need an accommodation to participate in this event, please contact the event sponsor or the Texas Law Special Events Office at specialevents@law.utexas.edu no later than seven business days prior to the event.
X-ALT-DESC;FMTTYPE=text/html:<p>Employers participating in Public Service Table Talk are invited to join UT Law administrators and faculty for breakfast so we may share information on new developments within the UT Law public service community. We also hope to exchange ideas on creating more opportunities for students to serve the public. </p><p>If you need an accommodation to participate in this event, please contact the event
                                          event sponsor or the Texas Law Special Events Office at <a href="mailto:specialevents@law.utexas.edu">specialevents@law.utexas.edu</a> no later than seven business days prior to the event.</p>
CATEGORIES:Breakfast
LOCATION:TNH 2.111 - Sheffield-Massey Room
URL:http://law.utexas.edu/calendar/2010/09/16/8563/
CLASS:PUBLIC
STATUS:CONFIRMED
COMMENT:RSVP by Tuesday, September 14 to Sandra Valencia in the CSO at 512-232-1161 or <a href="mailto:svalencia@law.utexas.edu">svalencia@law.utexas.edu</a>.
END:VEVENT
END:VCALENDAR