BEGIN:VCALENDAR
VERSION:2.0
PRODID:-//UNIVERSITY OF TEXAS SCHOOL OF LAW//NONSGML Events Calendar v1.0//EN
X-WR-TIMEZONE:America/Chicago
BEGIN:VTIMEZONE
TZID:US/Central
X-LIC-LOCATION:America/Chicago
BEGIN:DAYLIGHT
TZOFFSETFROM:-0600
TZOFFSETTO:-0500
TZNAME:CDT
DTSTART:19700308T020000
RRULE:FREQ=YEARLY;BYMONTH=3;BYDAY=2SU
END:DAYLIGHT
BEGIN:STANDARD
TZOFFSETFROM:-0500
TZOFFSETTO:-0600
TZNAME:CST
DTSTART:19701101T020000
RRULE:FREQ=YEARLY;BYMONTH=11;BYDAY=1SU
END:STANDARD
END:VTIMEZONE
BEGIN:VEVENT
DTSTART;TZID=US/Central:20100916T140000
DTEND;VALUE=DATE-TIME;TZID=US/Central:20100916T150000

DTSTAMP:20260424T234600Z
CREATED:20100909T195700Z
LAST-MODIFIED:20100913T163500Z
UID:20100916T140000-8884@law.utexas.edu
SUMMARY:Future Solo Attorneys Open House
DESCRIPTION:<p>Are you interested in advancing your career through building a personal brand, networking, and social media? Considering small firm or solo practice? If so, please come and meet other interested UT Law students. <a href="http://www.jptexaslaw.com/leigh.html">Leigh Jorgesen, ’09</a>, and <a href="http://www.jptexaslaw.com/ian.html"> Ian Pittman, ’09, </a>will be on hand to discuss their experiences in starting their own firm, <a href="http://www.jptexaslaw.com">Jorgeson, Pittman, L.L.P.</a>  We’ll also discuss starting a Future Solo and Small Firm Attorneys Group to explore these issues, how best to meet attorneys, and have fun. Snacks will be served. Please RSVP by Wednesday, September 15, on <a href="https://law-utexas-csm.symplicity.com/students/">UT Law Symplicity</a> by selecting the "Events" tab. </p>\n\nIf you need an accommodation to participate in this event, please contact the event sponsor or the Texas Law Special Events Office at specialevents@law.utexas.edu no later than seven business days prior to the event.
X-ALT-DESC;FMTTYPE=text/html:<p>Are you interested in advancing your career through building a personal brand, networking, and social media? Considering small firm or solo practice? If so, please come and meet other interested UT Law students. <a href="http://www.jptexaslaw.com/leigh.html">Leigh Jorgesen, ’09</a>, and <a href="http://www.jptexaslaw.com/ian.html"> Ian Pittman, ’09, </a>will be on hand to discuss their experiences in starting their own firm, <a href="http://www.jptexaslaw.com">Jorgeson, Pittman, L.L.P.</a>  We’ll also discuss starting a Future Solo and Small Firm Attorneys Group to explore these issues, how best to meet attorneys, and have fun. Snacks will be served. Please RSVP by Wednesday, September 15, on <a href="https://law-utexas-csm.symplicity.com/students/">UT Law Symplicity</a> by selecting the "Events" tab. </p><p>If you need an accommodation to participate in this event, please contact the event
                                          event sponsor or the Texas Law Special Events Office at <a href="mailto:specialevents@law.utexas.edu">specialevents@law.utexas.edu</a> no later than seven business days prior to the event.</p>
CATEGORIES:Meeting
LOCATION:Career Services Interview Suite
URL:http://law.utexas.edu/calendar/2010/09/16/8884/
CLASS:PUBLIC
STATUS:CONFIRMED
COMMENT:Please contact Michael Whelen at <a href="mailto:mwhelan59@gmail.com">mwhelan59@gmail.com</a>.
END:VEVENT
END:VCALENDAR