BEGIN:VCALENDAR
VERSION:2.0
PRODID:-//UNIVERSITY OF TEXAS SCHOOL OF LAW//NONSGML Events Calendar v1.0//EN
X-WR-TIMEZONE:America/Chicago
BEGIN:VTIMEZONE
TZID:US/Central
X-LIC-LOCATION:America/Chicago
BEGIN:DAYLIGHT
TZOFFSETFROM:-0600
TZOFFSETTO:-0500
TZNAME:CDT
DTSTART:19700308T020000
RRULE:FREQ=YEARLY;BYMONTH=3;BYDAY=2SU
END:DAYLIGHT
BEGIN:STANDARD
TZOFFSETFROM:-0500
TZOFFSETTO:-0600
TZNAME:CST
DTSTART:19701101T020000
RRULE:FREQ=YEARLY;BYMONTH=11;BYDAY=1SU
END:STANDARD
END:VTIMEZONE
BEGIN:VEVENT
DTSTART;TZID=US/Central:20100916T200000
DTEND;VALUE=DATE-TIME;TZID=US/Central:20100916T220000

DTSTAMP:20260425T012100Z
CREATED:20100913T142300Z
LAST-MODIFIED:20100913T142800Z
UID:20100916T200000-8902@law.utexas.edu
SUMMARY:WLC Happy Hour @ 219 West
DESCRIPTION:<p>Come out and join the Women's Law Caucus this Thursday, September 16 at 219 West from 8-10 pm for some free drinks and socializing. This event is for members only, so please pay dues at the Communication Center in the Atrium. They are $30 for the year and get you a t-shirt and entrance to all WLC events. </p>\n\nIf you need an accommodation to participate in this event, please contact the event sponsor or the Texas Law Special Events Office at specialevents@law.utexas.edu no later than seven business days prior to the event.
X-ALT-DESC;FMTTYPE=text/html:<p>Come out and join the Women's Law Caucus this Thursday, September 16 at 219 West from 8-10 pm for some free drinks and socializing. This event is for members only, so please pay dues at the Communication Center in the Atrium. They are $30 for the year and get you a t-shirt and entrance to all WLC events. </p><p>If you need an accommodation to participate in this event, please contact the event
                                          event sponsor or the Texas Law Special Events Office at <a href="mailto:specialevents@law.utexas.edu">specialevents@law.utexas.edu</a> no later than seven business days prior to the event.</p>

LOCATION:219 West
URL:http://law.utexas.edu/calendar/2010/09/16/8902/
CLASS:PUBLIC
STATUS:CONFIRMED

END:VEVENT
END:VCALENDAR