BEGIN:VCALENDAR
VERSION:2.0
PRODID:-//UNIVERSITY OF TEXAS SCHOOL OF LAW//NONSGML Events Calendar v1.0//EN
X-WR-TIMEZONE:America/Chicago
BEGIN:VTIMEZONE
TZID:US/Central
X-LIC-LOCATION:America/Chicago
BEGIN:DAYLIGHT
TZOFFSETFROM:-0600
TZOFFSETTO:-0500
TZNAME:CDT
DTSTART:19700308T020000
RRULE:FREQ=YEARLY;BYMONTH=3;BYDAY=2SU
END:DAYLIGHT
BEGIN:STANDARD
TZOFFSETFROM:-0500
TZOFFSETTO:-0600
TZNAME:CST
DTSTART:19701101T020000
RRULE:FREQ=YEARLY;BYMONTH=11;BYDAY=1SU
END:STANDARD
END:VTIMEZONE
BEGIN:VEVENT
DTSTART;TZID=US/Central:20100917T130000
DTEND;VALUE=DATE-TIME;TZID=US/Central:20100917T140000

DTSTAMP:20260424T234600Z
CREATED:20100810T232200Z
LAST-MODIFIED:20100827T173500Z
UID:20100917T130000-8568@law.utexas.edu
SUMMARY:Foreign-Trained LLM Resume Workshop
DESCRIPTION:<p>Learn how to develop a resume and cover letter for the U.S. legal market. UT Law LL.M. students will also have the opportunity to submit resumes for the UT Law LL.M. Resume Directory. RSVP by Thursday, September 16, on <a href="https://law-utexas-csm.symplicity.com/students/">UT Law Symplicity</a> by selecting the "Events" tab. </p>\n\nIf you need an accommodation to participate in this event, please contact the event sponsor or the Texas Law Special Events Office at specialevents@law.utexas.edu no later than seven business days prior to the event.
X-ALT-DESC;FMTTYPE=text/html:<p>Learn how to develop a resume and cover letter for the U.S. legal market. UT Law LL.M. students will also have the opportunity to submit resumes for the UT Law LL.M. Resume Directory. RSVP by Thursday, September 16, on <a href="https://law-utexas-csm.symplicity.com/students/">UT Law Symplicity</a> by selecting the "Events" tab. </p><p>If you need an accommodation to participate in this event, please contact the event
                                          event sponsor or the Texas Law Special Events Office at <a href="mailto:specialevents@law.utexas.edu">specialevents@law.utexas.edu</a> no later than seven business days prior to the event.</p>
CATEGORIES:Workshop / Training Program
LOCATION:CCJ 2.306 - Eidman Courtroom
URL:http://law.utexas.edu/calendar/2010/09/17/8568/
CLASS:PUBLIC
STATUS:CONFIRMED
COMMENT:Please contact Amanda Watkins in the CSO at 512-232-6056 or <a href="mailto:awatkins@law.utexas.edu">awatkins@law.utexas.edu</a>.
END:VEVENT
END:VCALENDAR