BEGIN:VCALENDAR
VERSION:2.0
PRODID:-//UNIVERSITY OF TEXAS SCHOOL OF LAW//NONSGML Events Calendar v1.0//EN
X-WR-TIMEZONE:America/Chicago
BEGIN:VTIMEZONE
TZID:US/Central
X-LIC-LOCATION:America/Chicago
BEGIN:DAYLIGHT
TZOFFSETFROM:-0600
TZOFFSETTO:-0500
TZNAME:CDT
DTSTART:19700308T020000
RRULE:FREQ=YEARLY;BYMONTH=3;BYDAY=2SU
END:DAYLIGHT
BEGIN:STANDARD
TZOFFSETFROM:-0500
TZOFFSETTO:-0600
TZNAME:CST
DTSTART:19701101T020000
RRULE:FREQ=YEARLY;BYMONTH=11;BYDAY=1SU
END:STANDARD
END:VTIMEZONE
BEGIN:VEVENT
DTSTART;TZID=US/Central:20101004T123000
DTEND;VALUE=DATE-TIME;TZID=US/Central:20101004T133000

DTSTAMP:20260424T234700Z
CREATED:20100810T233300Z
LAST-MODIFIED:20100929T151000Z
UID:20101004T123000-8572@law.utexas.edu
SUMMARY:How to Prepare for Judicial Clerkships
DESCRIPTION:<p>This program is highly recommended for 2Ls and 3Ls who are considering applying for judicial clerkships. Professor Emily Kadens, Professor Elana Einhorn and Director of Judicial Programs, Remi Ratliff, will tell you why clerking is a valuable experience and how to prepare now to become a great applicant. Get tips on selecting courts and judges, asking for letters of recommendation, and putting together a good application.
  </p>\n\nIf you need an accommodation to participate in this event, please contact the event sponsor or the Texas Law Special Events Office at specialevents@law.utexas.edu no later than seven business days prior to the event.
X-ALT-DESC;FMTTYPE=text/html:<p>This program is highly recommended for 2Ls and 3Ls who are considering applying for judicial clerkships. Professor Emily Kadens, Professor Elana Einhorn and Director of Judicial Programs, Remi Ratliff, will tell you why clerking is a valuable experience and how to prepare now to become a great applicant. Get tips on selecting courts and judges, asking for letters of recommendation, and putting together a good application.
  </p><p>If you need an accommodation to participate in this event, please contact the event
                                          event sponsor or the Texas Law Special Events Office at <a href="mailto:specialevents@law.utexas.edu">specialevents@law.utexas.edu</a> no later than seven business days prior to the event.</p>
CATEGORIES:Panel Discussion / Speaker Series
LOCATION:CCJ 2.306 - Eidman Courtroom
URL:http://law.utexas.edu/calendar/2010/10/04/8572/
CLASS:PUBLIC
STATUS:CONFIRMED
COMMENT:Please contact Remi Ratliff, Director of Judicial Programs, at 512-232-1163 or <a href="mailto:rratliff@law.utexas.edu">rratliff@law.utexas.edu</a>.
END:VEVENT
END:VCALENDAR