BEGIN:VCALENDAR
VERSION:2.0
PRODID:-//UNIVERSITY OF TEXAS SCHOOL OF LAW//NONSGML Events Calendar v1.0//EN
X-WR-TIMEZONE:America/Chicago
BEGIN:VTIMEZONE
TZID:US/Central
X-LIC-LOCATION:America/Chicago
BEGIN:DAYLIGHT
TZOFFSETFROM:-0600
TZOFFSETTO:-0500
TZNAME:CDT
DTSTART:19700308T020000
RRULE:FREQ=YEARLY;BYMONTH=3;BYDAY=2SU
END:DAYLIGHT
BEGIN:STANDARD
TZOFFSETFROM:-0500
TZOFFSETTO:-0600
TZNAME:CST
DTSTART:19701101T020000
RRULE:FREQ=YEARLY;BYMONTH=11;BYDAY=1SU
END:STANDARD
END:VTIMEZONE
BEGIN:VEVENT
DTSTART;TZID=US/Central:20101004T113000
DTEND;VALUE=DATE-TIME;TZID=US/Central:20101004T123000

DTSTAMP:20260424T223500Z
CREATED:20100810T233600Z
LAST-MODIFIED:20101001T160200Z
UID:20101004T113000-8573@law.utexas.edu
SUMMARY:Career Exploration: Environmental Law
DESCRIPTION:<p>Environmental law is a growing field that covers many different issues and career paths. Come learn more about environmental law from practitioners in the public interest, private, and government sector. Panelists include <a href="http://www.tceq.state.tx.us/about/organization/ols.html">Stephanie Bergeron Perdue</a>, Deputy Director of the Office of Legal Services, Texas Commission on Environmental Quality; <a href="http://www.bakerbotts.com/lawyers/detail.aspx?id=3eabd55f-8f59-4dda-a320-00bc3ef91efc">Brian Faulkner '95</a>, Associate with Baker Botts, LLP; and moderated by <a href="http://haynesboone.com/Jeff_Civins/">Jeff Civins, '75</a>, Partner at Haynes &amp; Boone, LLP and Best Lawyers' 2010 Austin Environmental Lawyer of the Year. Lunch will be served after the program. RSVP by Friday, October 1, on <a href="https://law-utexas-csm.symplicity.com/students/">UT Law Symplicity</a> by selecting the "Events" tab. </p>\n\nIf you need an accommodation to participate in this event, please contact the event sponsor or the Texas Law Special Events Office at specialevents@law.utexas.edu no later than seven business days prior to the event.
X-ALT-DESC;FMTTYPE=text/html:<p>Environmental law is a growing field that covers many different issues and career paths. Come learn more about environmental law from practitioners in the public interest, private, and government sector. Panelists include <a href="http://www.tceq.state.tx.us/about/organization/ols.html">Stephanie Bergeron Perdue</a>, Deputy Director of the Office of Legal Services, Texas Commission on Environmental Quality; <a href="http://www.bakerbotts.com/lawyers/detail.aspx?id=3eabd55f-8f59-4dda-a320-00bc3ef91efc">Brian Faulkner '95</a>, Associate with Baker Botts, LLP; and moderated by <a href="http://haynesboone.com/Jeff_Civins/">Jeff Civins, '75</a>, Partner at Haynes &amp; Boone, LLP and Best Lawyers' 2010 Austin Environmental Lawyer of the Year. Lunch will be served after the program. RSVP by Friday, October 1, on <a href="https://law-utexas-csm.symplicity.com/students/">UT Law Symplicity</a> by selecting the "Events" tab. </p><p>If you need an accommodation to participate in this event, please contact the event
                                          event sponsor or the Texas Law Special Events Office at <a href="mailto:specialevents@law.utexas.edu">specialevents@law.utexas.edu</a> no later than seven business days prior to the event.</p>
CATEGORIES:Panel Discussion / Speaker Series
LOCATION:CCJ 2.306 - Eidman Courtroom
URL:http://law.utexas.edu/calendar/2010/10/04/8573/
CLASS:PUBLIC
STATUS:CONFIRMED
COMMENT:Please contact Nicole Clark (<a href="mailto:nclark@law.utexas.edu">nclark@law.utexas.edu</a>) or Amanda Watkins (<a href="mailto:awatkins@law.utexas.edu">awatkins@law.utexas.edu</a> in the CSO.
END:VEVENT
END:VCALENDAR