BEGIN:VCALENDAR
VERSION:2.0
PRODID:-//UNIVERSITY OF TEXAS SCHOOL OF LAW//NONSGML Events Calendar v1.0//EN
X-WR-TIMEZONE:America/Chicago
BEGIN:VTIMEZONE
TZID:US/Central
X-LIC-LOCATION:America/Chicago
BEGIN:DAYLIGHT
TZOFFSETFROM:-0600
TZOFFSETTO:-0500
TZNAME:CDT
DTSTART:19700308T020000
RRULE:FREQ=YEARLY;BYMONTH=3;BYDAY=2SU
END:DAYLIGHT
BEGIN:STANDARD
TZOFFSETFROM:-0500
TZOFFSETTO:-0600
TZNAME:CST
DTSTART:19701101T020000
RRULE:FREQ=YEARLY;BYMONTH=11;BYDAY=1SU
END:STANDARD
END:VTIMEZONE
BEGIN:VEVENT
DTSTART;TZID=US/Central:20101004T153000
DTEND;VALUE=DATE-TIME;TZID=US/Central:20101004T163000

DTSTAMP:20260424T223500Z
CREATED:20100810T233800Z
LAST-MODIFIED:20101001T160300Z
UID:20101004T153000-8574@law.utexas.edu
SUMMARY:Career Exploration: Criminal Law
DESCRIPTION:<p>Learn about various careers in criminal law from a private attorney, prosecutor, and public defender perspective. Panelists will discuss their careers and offer advice on how to land a job in criminal law. Panelists include <a href="http://www.texasdefender.org/staff">Laura Ferry, Texas Defender Service</a>; Brad Levenson, Director, Office of Capital Writs; Gail Van Winkle, <a href="http://www.traviscountyda.com/">Travis County District Attorney's Office</a>; and Attorney <a href="http://www.attorneyritz.com/">Sandra Ritz, '93</a>. Moderated by <a href="http://www.tdcaa.com/">Robert Kepple, Executive Director, Texas District &amp; County Attorneys Association</a>. Cookies and refreshments will be served after the program. RSVP by Friday, October 1, on <a href="https://law-utexas-csm.symplicity.com/students/">UT Law Symplicity</a> by selecting the "Events" tab. </p>\n\nIf you need an accommodation to participate in this event, please contact the event sponsor or the Texas Law Special Events Office at specialevents@law.utexas.edu no later than seven business days prior to the event.
X-ALT-DESC;FMTTYPE=text/html:<p>Learn about various careers in criminal law from a private attorney, prosecutor, and public defender perspective. Panelists will discuss their careers and offer advice on how to land a job in criminal law. Panelists include <a href="http://www.texasdefender.org/staff">Laura Ferry, Texas Defender Service</a>; Brad Levenson, Director, Office of Capital Writs; Gail Van Winkle, <a href="http://www.traviscountyda.com/">Travis County District Attorney's Office</a>; and Attorney <a href="http://www.attorneyritz.com/">Sandra Ritz, '93</a>. Moderated by <a href="http://www.tdcaa.com/">Robert Kepple, Executive Director, Texas District &amp; County Attorneys Association</a>. Cookies and refreshments will be served after the program. RSVP by Friday, October 1, on <a href="https://law-utexas-csm.symplicity.com/students/">UT Law Symplicity</a> by selecting the "Events" tab. </p><p>If you need an accommodation to participate in this event, please contact the event
                                          event sponsor or the Texas Law Special Events Office at <a href="mailto:specialevents@law.utexas.edu">specialevents@law.utexas.edu</a> no later than seven business days prior to the event.</p>
CATEGORIES:Panel Discussion / Speaker Series
LOCATION:CCJ 2.306 - Eidman Courtroom
URL:http://law.utexas.edu/calendar/2010/10/04/8574/
CLASS:PUBLIC
STATUS:CONFIRMED
COMMENT:Please contact Nicole Clark (<a href="mailto:nclark@law.utexas.edu">nclark@law.utexas.edu</a>) or Denyse Demel (<a href="mailto:ddemel@law.utexas.edu">ddemel@law.utexas.edu</a>) in the CSO.
END:VEVENT
END:VCALENDAR