BEGIN:VCALENDAR
VERSION:2.0
PRODID:-//UNIVERSITY OF TEXAS SCHOOL OF LAW//NONSGML Events Calendar v1.0//EN
X-WR-TIMEZONE:America/Chicago
BEGIN:VTIMEZONE
TZID:US/Central
X-LIC-LOCATION:America/Chicago
BEGIN:DAYLIGHT
TZOFFSETFROM:-0600
TZOFFSETTO:-0500
TZNAME:CDT
DTSTART:19700308T020000
RRULE:FREQ=YEARLY;BYMONTH=3;BYDAY=2SU
END:DAYLIGHT
BEGIN:STANDARD
TZOFFSETFROM:-0500
TZOFFSETTO:-0600
TZNAME:CST
DTSTART:19701101T020000
RRULE:FREQ=YEARLY;BYMONTH=11;BYDAY=1SU
END:STANDARD
END:VTIMEZONE
BEGIN:VEVENT
DTSTART;TZID=US/Central:20101005T113000
DTEND;VALUE=DATE-TIME;TZID=US/Central:20101005T123000

DTSTAMP:20260424T234600Z
CREATED:20100810T234100Z
LAST-MODIFIED:20101004T163400Z
UID:20101005T113000-8575@law.utexas.edu
SUMMARY:Career Exploration: Transactional Law
DESCRIPTION:<p>Learn about careers in transactional law in both the private and public sectors. Panelists will discuss the various career options in transactional law, the market for transactional lawyers, the skills and training that are important, and how to enter the field. Panelists include <a href="http://www.klgates.com/professionals/detail.aspx?professional=4979">Robert McCarthy ’00 </a>, partner at K&amp;L Gates; Lowell Keig ’88, general counsel for <a href="http://www.yfcs.com/">Youth &amp; Family Centered Services</a>; and <a href="http://www.dboothlaw.com/attorneys.html">Doug Booth ’92</a>, Law Offices of Douglas A. Booth, P.C. Moderated by <a href="http://www.corpgeneralcounsel.com/about.html">David Valenti</a>, managing shareholder at Valenti Corporate GC, PC. Lunch will be served after the program. RSVP by Monday, October 4, on UT Law Symplicity by selecting the "Events" tab.</p>\n\nIf you need an accommodation to participate in this event, please contact the event sponsor or the Texas Law Special Events Office at specialevents@law.utexas.edu no later than seven business days prior to the event.
X-ALT-DESC;FMTTYPE=text/html:<p>Learn about careers in transactional law in both the private and public sectors. Panelists will discuss the various career options in transactional law, the market for transactional lawyers, the skills and training that are important, and how to enter the field. Panelists include <a href="http://www.klgates.com/professionals/detail.aspx?professional=4979">Robert McCarthy ’00 </a>, partner at K&amp;L Gates; Lowell Keig ’88, general counsel for <a href="http://www.yfcs.com/">Youth &amp; Family Centered Services</a>; and <a href="http://www.dboothlaw.com/attorneys.html">Doug Booth ’92</a>, Law Offices of Douglas A. Booth, P.C. Moderated by <a href="http://www.corpgeneralcounsel.com/about.html">David Valenti</a>, managing shareholder at Valenti Corporate GC, PC. Lunch will be served after the program. RSVP by Monday, October 4, on UT Law Symplicity by selecting the "Events" tab.</p><p>If you need an accommodation to participate in this event, please contact the event
                                          event sponsor or the Texas Law Special Events Office at <a href="mailto:specialevents@law.utexas.edu">specialevents@law.utexas.edu</a> no later than seven business days prior to the event.</p>
CATEGORIES:Panel Discussion / Speaker Series
LOCATION:CCJ 2.306 - Eidman Courtroom
URL:http://law.utexas.edu/calendar/2010/10/05/8575/
CLASS:PUBLIC
STATUS:CONFIRMED
COMMENT:Please contact Simone Leavenworth  at <a href="mailto:sleavenworth@law.utexas.edu">sleavenworth@law.utexas.edu</a> in the CSO.
END:VEVENT
END:VCALENDAR