BEGIN:VCALENDAR
VERSION:2.0
PRODID:-//UNIVERSITY OF TEXAS SCHOOL OF LAW//NONSGML Events Calendar v1.0//EN
X-WR-TIMEZONE:America/Chicago
BEGIN:VTIMEZONE
TZID:US/Central
X-LIC-LOCATION:America/Chicago
BEGIN:DAYLIGHT
TZOFFSETFROM:-0600
TZOFFSETTO:-0500
TZNAME:CDT
DTSTART:19700308T020000
RRULE:FREQ=YEARLY;BYMONTH=3;BYDAY=2SU
END:DAYLIGHT
BEGIN:STANDARD
TZOFFSETFROM:-0500
TZOFFSETTO:-0600
TZNAME:CST
DTSTART:19701101T020000
RRULE:FREQ=YEARLY;BYMONTH=11;BYDAY=1SU
END:STANDARD
END:VTIMEZONE
BEGIN:VEVENT
DTSTART;TZID=US/Central:20101007T140000
DTEND;VALUE=DATE-TIME;TZID=US/Central:20101007T150000

DTSTAMP:20260424T222600Z
CREATED:20100917T192900Z
LAST-MODIFIED:20101005T162600Z
UID:20101007T140000-8920@law.utexas.edu
SUMMARY:Networking Using Social Media
DESCRIPTION:<p>Networking is more than just collecting business cards; it's about people. Whether you plan to open your own firm, work in government, or make a career in Biglaw, your career will be defined by your ability to build a team of friends and advisers. Come learn how to identify who you must know and how they can become as invested in your success as you are. Austin attorneys <a href="http://www.bradhoustonlaw.com/">Brad Houston</a> and <a href="http://www.appellatecourtlaw.com/">Margaret Schmucker</a>, along with <a href="http://www.utexas.edu/law/career/contact.html#deb">Deb Freeman, Assistant Director for Communications in the CSO</a>, will discuss making the connections you need to succeed. Presented by the Future Solo and Small Firm Attorneys Group. Pizza will be served. Please RSVP by Wednesday, October 6, on <a href="https://law-utexas-csm.symplicity.com/students/">UT Law Symplicity</a> by selecting the "Events" tab. </p>\n\nIf you need an accommodation to participate in this event, please contact the event sponsor or the Texas Law Special Events Office at specialevents@law.utexas.edu no later than seven business days prior to the event.
X-ALT-DESC;FMTTYPE=text/html:<p>Networking is more than just collecting business cards; it's about people. Whether you plan to open your own firm, work in government, or make a career in Biglaw, your career will be defined by your ability to build a team of friends and advisers. Come learn how to identify who you must know and how they can become as invested in your success as you are. Austin attorneys <a href="http://www.bradhoustonlaw.com/">Brad Houston</a> and <a href="http://www.appellatecourtlaw.com/">Margaret Schmucker</a>, along with <a href="http://www.utexas.edu/law/career/contact.html#deb">Deb Freeman, Assistant Director for Communications in the CSO</a>, will discuss making the connections you need to succeed. Presented by the Future Solo and Small Firm Attorneys Group. Pizza will be served. Please RSVP by Wednesday, October 6, on <a href="https://law-utexas-csm.symplicity.com/students/">UT Law Symplicity</a> by selecting the "Events" tab. </p><p>If you need an accommodation to participate in this event, please contact the event
                                          event sponsor or the Texas Law Special Events Office at <a href="mailto:specialevents@law.utexas.edu">specialevents@law.utexas.edu</a> no later than seven business days prior to the event.</p>
CATEGORIES:Meeting
LOCATION:Career Services Interview Suite
URL:http://law.utexas.edu/calendar/2010/10/07/8920/
CLASS:PUBLIC
STATUS:CONFIRMED
COMMENT:Please contact Michael Whelen at <a href="mailto:mwhelan59@gmail.com">mwhelan59@gmail.com</a>.
END:VEVENT
END:VCALENDAR