BEGIN:VCALENDAR
VERSION:2.0
PRODID:-//UNIVERSITY OF TEXAS SCHOOL OF LAW//NONSGML Events Calendar v1.0//EN
X-WR-TIMEZONE:America/Chicago
BEGIN:VTIMEZONE
TZID:US/Central
X-LIC-LOCATION:America/Chicago
BEGIN:DAYLIGHT
TZOFFSETFROM:-0600
TZOFFSETTO:-0500
TZNAME:CDT
DTSTART:19700308T020000
RRULE:FREQ=YEARLY;BYMONTH=3;BYDAY=2SU
END:DAYLIGHT
BEGIN:STANDARD
TZOFFSETFROM:-0500
TZOFFSETTO:-0600
TZNAME:CST
DTSTART:19701101T020000
RRULE:FREQ=YEARLY;BYMONTH=11;BYDAY=1SU
END:STANDARD
END:VTIMEZONE
BEGIN:VEVENT
DTSTART;TZID=US/Central:20101007T153000
DTEND;VALUE=DATE-TIME;TZID=US/Central:20101007T163000

DTSTAMP:20260424T222600Z
CREATED:20100929T180700Z
LAST-MODIFIED:20101005T175700Z
UID:20101007T153000-8955@law.utexas.edu
SUMMARY:Career Exploration: Health Care Law
DESCRIPTION:<p>Lawyers from the private and public sectors will discuss the types of practices involved in health care law, as well as the skills and training that are important, and how to enter the field. Panelists include <a href="http://www.coxsmith.com/People/KathyLPoppitt">Kathy Poppitt '88</a>, shareholder at Cox Smith; <a href="http://cmcdlaw.com/Att_06_Shellhorsehtm.htm">Nancy Shellhorse</a>, Of Counsel at Carls, McDonald &amp; Dalrymple L.L.P.; Steve Aragon, Chief Legal Counsel at the <a href="http://www.hhsc.state.tx.us/">Texas Health and Human Services Commission</a>; and <a href="http://www.sharpcobos.com/tony_cobos">Antonio Cobos, Partner, Sharp &amp; Cobos, LLP</a>.  Refreshments will be served after the program. RSVP by Wednesday, October 6, on <a href="https://law-utexas-csm.symplicity.com/students/">UT Law Symplicity</a> by selecting the "Events" tab. </p>\n\nIf you need an accommodation to participate in this event, please contact the event sponsor or the Texas Law Special Events Office at specialevents@law.utexas.edu no later than seven business days prior to the event.
X-ALT-DESC;FMTTYPE=text/html:<p>Lawyers from the private and public sectors will discuss the types of practices involved in health care law, as well as the skills and training that are important, and how to enter the field. Panelists include <a href="http://www.coxsmith.com/People/KathyLPoppitt">Kathy Poppitt '88</a>, shareholder at Cox Smith; <a href="http://cmcdlaw.com/Att_06_Shellhorsehtm.htm">Nancy Shellhorse</a>, Of Counsel at Carls, McDonald &amp; Dalrymple L.L.P.; Steve Aragon, Chief Legal Counsel at the <a href="http://www.hhsc.state.tx.us/">Texas Health and Human Services Commission</a>; and <a href="http://www.sharpcobos.com/tony_cobos">Antonio Cobos, Partner, Sharp &amp; Cobos, LLP</a>.  Refreshments will be served after the program. RSVP by Wednesday, October 6, on <a href="https://law-utexas-csm.symplicity.com/students/">UT Law Symplicity</a> by selecting the "Events" tab. </p><p>If you need an accommodation to participate in this event, please contact the event
                                          event sponsor or the Texas Law Special Events Office at <a href="mailto:specialevents@law.utexas.edu">specialevents@law.utexas.edu</a> no later than seven business days prior to the event.</p>
CATEGORIES:Panel Discussion / Speaker Series
LOCATION:CCJ 2.306 - Eidman Courtroom
URL:http://law.utexas.edu/calendar/2010/10/07/8955/
CLASS:PUBLIC
STATUS:CONFIRMED
COMMENT:Please contact Simone Leavenworth (<a href="mailto:sleavenworth@law.utexas.edu">sleavenworth@law.utexas.edu</a>)  or Angelica Salinas Evans (<a href="mailto:aevans@law.utexas.edu">aevans@law.utexas.edu</a>) in the CSO.
END:VEVENT
END:VCALENDAR