BEGIN:VCALENDAR
VERSION:2.0
PRODID:-//UNIVERSITY OF TEXAS SCHOOL OF LAW//NONSGML Events Calendar v1.0//EN
X-WR-TIMEZONE:America/Chicago
BEGIN:VTIMEZONE
TZID:US/Central
X-LIC-LOCATION:America/Chicago
BEGIN:DAYLIGHT
TZOFFSETFROM:-0600
TZOFFSETTO:-0500
TZNAME:CDT
DTSTART:19700308T020000
RRULE:FREQ=YEARLY;BYMONTH=3;BYDAY=2SU
END:DAYLIGHT
BEGIN:STANDARD
TZOFFSETFROM:-0500
TZOFFSETTO:-0600
TZNAME:CST
DTSTART:19701101T020000
RRULE:FREQ=YEARLY;BYMONTH=11;BYDAY=1SU
END:STANDARD
END:VTIMEZONE
BEGIN:VEVENT
DTSTART;TZID=US/Central:20101007T083000
DTEND;VALUE=DATE-TIME;TZID=US/Central:20101007T091500

DTSTAMP:20260424T224100Z
CREATED:20101005T221200Z
LAST-MODIFIED:20101005T221200Z
UID:20101007T083000-9004@law.utexas.edu
SUMMARY:Action Committee for Career Services
DESCRIPTION:<p>Attention 2Ls &amp; 3Ls: Expand your professional network by becoming a member of the Action Committee for Career Services! Members of the Action Committee for Career Services (ACCS; pronounced "Aces") partner with the Career Services Office to perform employer outreach, staff on-campus recruiting programs and off-campus receptions, and help develop career-related resources. In the past, several ACCS have received interviews and offers as a direct result of helping with CSO projects. To become a member of the ACCS, please <a href="http://www.utexas.edu/law/career/form/accs.html">submit your application online</a>. 1Ls may join the ACCS in the spring. </p>\n\nIf you need an accommodation to participate in this event, please contact the event sponsor or the Texas Law Special Events Office at specialevents@law.utexas.edu no later than seven business days prior to the event.
X-ALT-DESC;FMTTYPE=text/html:<p>Attention 2Ls &amp; 3Ls: Expand your professional network by becoming a member of the Action Committee for Career Services! Members of the Action Committee for Career Services (ACCS; pronounced "Aces") partner with the Career Services Office to perform employer outreach, staff on-campus recruiting programs and off-campus receptions, and help develop career-related resources. In the past, several ACCS have received interviews and offers as a direct result of helping with CSO projects. To become a member of the ACCS, please <a href="http://www.utexas.edu/law/career/form/accs.html">submit your application online</a>. 1Ls may join the ACCS in the spring. </p><p>If you need an accommodation to participate in this event, please contact the event
                                          event sponsor or the Texas Law Special Events Office at <a href="mailto:specialevents@law.utexas.edu">specialevents@law.utexas.edu</a> no later than seven business days prior to the event.</p>
CATEGORIES:Meeting
LOCATION:Career Services Interview Suite
URL:http://law.utexas.edu/calendar/2010/10/07/9004/
CLASS:PUBLIC
STATUS:CONFIRMED
COMMENT:For more information, contact Deb Freeman in the CSO at <a href="mailto:dfreeman@law.utexas.edu">dfreeman@law.utexas.edu</a>.
END:VEVENT
END:VCALENDAR