BEGIN:VCALENDAR
VERSION:2.0
PRODID:-//UNIVERSITY OF TEXAS SCHOOL OF LAW//NONSGML Events Calendar v1.0//EN
X-WR-TIMEZONE:America/Chicago
BEGIN:VTIMEZONE
TZID:US/Central
X-LIC-LOCATION:America/Chicago
BEGIN:DAYLIGHT
TZOFFSETFROM:-0600
TZOFFSETTO:-0500
TZNAME:CDT
DTSTART:19700308T020000
RRULE:FREQ=YEARLY;BYMONTH=3;BYDAY=2SU
END:DAYLIGHT
BEGIN:STANDARD
TZOFFSETFROM:-0500
TZOFFSETTO:-0600
TZNAME:CST
DTSTART:19701101T020000
RRULE:FREQ=YEARLY;BYMONTH=11;BYDAY=1SU
END:STANDARD
END:VTIMEZONE
BEGIN:VEVENT
DTSTART;TZID=US/Central:20101008


DTSTAMP:20260424T222600Z
CREATED:20100806T200400Z
LAST-MODIFIED:20100812T135500Z
UID:20101008T000000-8519@law.utexas.edu
SUMMARY:UT Law Day
DESCRIPTION:<p>UT Law open house for the general public and prospective students. Events include an admissions question and answer, student services panel, mock class, tours of the law school, and law student panel. RSVP required and registration opens September 13.</p>\n\nIf you need an accommodation to participate in this event, please contact the event sponsor or the Texas Law Special Events Office at specialevents@law.utexas.edu no later than seven business days prior to the event.
X-ALT-DESC;FMTTYPE=text/html:<p>UT Law open house for the general public and prospective students. Events include an admissions question and answer, student services panel, mock class, tours of the law school, and law student panel. RSVP required and registration opens September 13.</p><p>If you need an accommodation to participate in this event, please contact the event
                                          event sponsor or the Texas Law Special Events Office at <a href="mailto:specialevents@law.utexas.edu">specialevents@law.utexas.edu</a> no later than seven business days prior to the event.</p>

LOCATION:TNH 2.114 - Francis Auditorium
URL:http://law.utexas.edu/calendar/2010/10/08/8519/
CLASS:PUBLIC
STATUS:CONFIRMED
COMMENT:admissions@law.utexas.edu
END:VEVENT
END:VCALENDAR