BEGIN:VCALENDAR
VERSION:2.0
PRODID:-//UNIVERSITY OF TEXAS SCHOOL OF LAW//NONSGML Events Calendar v1.0//EN
X-WR-TIMEZONE:America/Chicago
BEGIN:VTIMEZONE
TZID:US/Central
X-LIC-LOCATION:America/Chicago
BEGIN:DAYLIGHT
TZOFFSETFROM:-0600
TZOFFSETTO:-0500
TZNAME:CDT
DTSTART:19700308T020000
RRULE:FREQ=YEARLY;BYMONTH=3;BYDAY=2SU
END:DAYLIGHT
BEGIN:STANDARD
TZOFFSETFROM:-0500
TZOFFSETTO:-0600
TZNAME:CST
DTSTART:19701101T020000
RRULE:FREQ=YEARLY;BYMONTH=11;BYDAY=1SU
END:STANDARD
END:VTIMEZONE
BEGIN:VEVENT
DTSTART;TZID=US/Central:20101008T131500
DTEND;VALUE=DATE-TIME;TZID=US/Central:20101008T153000

DTSTAMP:20260424T224100Z
CREATED:20100810T234900Z
LAST-MODIFIED:20101005T195000Z
UID:20101008T131500-8578@law.utexas.edu
SUMMARY:Career Exploration:  Immigration Law
DESCRIPTION:<p>The State Bar of Texas Committee on Immigration and Naturalization Laws will present a panel reflecting different aspects of Immigration Practice; i.e., business representation, family representation, children and juveniles, individuals, and academia. Panelists include the Hon. David Ayala, U.S. Immigration Court; the Hon. Deitrich Sims, Dallas Immigration Court; the Hon. Margaret Burkhart ’83, U.S. Immigration Judge; Wiley Blakeway, Field Office Director, U.S. Citizenship and Immigration Services; William L. Finley ‘97, Deputy Regional Counsel, INS; Robert Loughran, Partner, FosterQuan, LLP; Mario Rojo del Busto, Director of International Faculty &amp; Scholar Services, Texas A&amp;M University; Linda Brandmiller, Director, Immigration Services at Catholic Charities Archdiocese of San Antonio; and Rebecca R. Massiatte, Associate, Jackson Lewis LLP. Moderated by Mark Harrington, Committee Chair. The panel will take place from 1:15-3:00 p.m. with a reception following in the Jamail Pavilion. RSVP by Thursday, October 7, on <a href="https://law-utexas-csm.symplicity.com/students/">UT Law Symplicity</a> by selecting the "Events" tab. </p>\n\nIf you need an accommodation to participate in this event, please contact the event sponsor or the Texas Law Special Events Office at specialevents@law.utexas.edu no later than seven business days prior to the event.
X-ALT-DESC;FMTTYPE=text/html:<p>The State Bar of Texas Committee on Immigration and Naturalization Laws will present a panel reflecting different aspects of Immigration Practice; i.e., business representation, family representation, children and juveniles, individuals, and academia. Panelists include the Hon. David Ayala, U.S. Immigration Court; the Hon. Deitrich Sims, Dallas Immigration Court; the Hon. Margaret Burkhart ’83, U.S. Immigration Judge; Wiley Blakeway, Field Office Director, U.S. Citizenship and Immigration Services; William L. Finley ‘97, Deputy Regional Counsel, INS; Robert Loughran, Partner, FosterQuan, LLP; Mario Rojo del Busto, Director of International Faculty &amp; Scholar Services, Texas A&amp;M University; Linda Brandmiller, Director, Immigration Services at Catholic Charities Archdiocese of San Antonio; and Rebecca R. Massiatte, Associate, Jackson Lewis LLP. Moderated by Mark Harrington, Committee Chair. The panel will take place from 1:15-3:00 p.m. with a reception following in the Jamail Pavilion. RSVP by Thursday, October 7, on <a href="https://law-utexas-csm.symplicity.com/students/">UT Law Symplicity</a> by selecting the "Events" tab. </p><p>If you need an accommodation to participate in this event, please contact the event
                                          event sponsor or the Texas Law Special Events Office at <a href="mailto:specialevents@law.utexas.edu">specialevents@law.utexas.edu</a> no later than seven business days prior to the event.</p>
CATEGORIES:Panel Discussion / Speaker Series
LOCATION:CCJ 2.306 - Eidman Courtroom
URL:http://law.utexas.edu/calendar/2010/10/08/8578/
CLASS:PUBLIC
STATUS:CONFIRMED
COMMENT:Please contact Angelica Salinas Evans in the CSO at 512-232-1159 or <a href="mailto:aevans@law.utexas.edu">aevans@law.utexas.edu</a>.
END:VEVENT
END:VCALENDAR