BEGIN:VCALENDAR
VERSION:2.0
PRODID:-//UNIVERSITY OF TEXAS SCHOOL OF LAW//NONSGML Events Calendar v1.0//EN
X-WR-TIMEZONE:America/Chicago
BEGIN:VTIMEZONE
TZID:US/Central
X-LIC-LOCATION:America/Chicago
BEGIN:DAYLIGHT
TZOFFSETFROM:-0600
TZOFFSETTO:-0500
TZNAME:CDT
DTSTART:19700308T020000
RRULE:FREQ=YEARLY;BYMONTH=3;BYDAY=2SU
END:DAYLIGHT
BEGIN:STANDARD
TZOFFSETFROM:-0500
TZOFFSETTO:-0600
TZNAME:CST
DTSTART:19701101T020000
RRULE:FREQ=YEARLY;BYMONTH=11;BYDAY=1SU
END:STANDARD
END:VTIMEZONE
BEGIN:VEVENT
DTSTART;TZID=US/Central:20101011T123000
DTEND;VALUE=DATE-TIME;TZID=US/Central:20101011T133000

DTSTAMP:20260424T224100Z
CREATED:20100923T162900Z
LAST-MODIFIED:20100923T190700Z
UID:20101011T123000-8943@law.utexas.edu
SUMMARY:Postgraduate Public Interest Fellowships
DESCRIPTION:<p>Postgraduate Public Interest Fellowships for 2Ls: What You Should be Doing Now. Pizza provided.</p>
  <p>Are you a 2L thinking of applying for a postgraduate public interest fellowship?  Are you a 3L thinking about applying for one after your judicial clerkship?   This panel presentation will address how you should be preparing now to position yourself as a viable candidate for these highly competitive fellowships.  </p>\n\nIf you need an accommodation to participate in this event, please contact the event sponsor or the Texas Law Special Events Office at specialevents@law.utexas.edu no later than seven business days prior to the event.
X-ALT-DESC;FMTTYPE=text/html:<p>Postgraduate Public Interest Fellowships for 2Ls: What You Should be Doing Now. Pizza provided.</p>
  <p>Are you a 2L thinking of applying for a postgraduate public interest fellowship?  Are you a 3L thinking about applying for one after your judicial clerkship?   This panel presentation will address how you should be preparing now to position yourself as a viable candidate for these highly competitive fellowships.  </p><p>If you need an accommodation to participate in this event, please contact the event
                                          event sponsor or the Texas Law Special Events Office at <a href="mailto:specialevents@law.utexas.edu">specialevents@law.utexas.edu</a> no later than seven business days prior to the event.</p>
CATEGORIES:Panel Discussion / Speaker Series
LOCATION:
URL:http://law.utexas.edu/calendar/2010/10/11/8943/
CLASS:PUBLIC
STATUS:CONFIRMED
COMMENT:Mary Crouter, Assistant Director, William Wayne Justice Center for Public Interest Law, mcrouter@law.utexas.edu
END:VEVENT
END:VCALENDAR