BEGIN:VCALENDAR
VERSION:2.0
PRODID:-//UNIVERSITY OF TEXAS SCHOOL OF LAW//NONSGML Events Calendar v1.0//EN
X-WR-TIMEZONE:America/Chicago
BEGIN:VTIMEZONE
TZID:US/Central
X-LIC-LOCATION:America/Chicago
BEGIN:DAYLIGHT
TZOFFSETFROM:-0600
TZOFFSETTO:-0500
TZNAME:CDT
DTSTART:19700308T020000
RRULE:FREQ=YEARLY;BYMONTH=3;BYDAY=2SU
END:DAYLIGHT
BEGIN:STANDARD
TZOFFSETFROM:-0500
TZOFFSETTO:-0600
TZNAME:CST
DTSTART:19701101T020000
RRULE:FREQ=YEARLY;BYMONTH=11;BYDAY=1SU
END:STANDARD
END:VTIMEZONE
BEGIN:VEVENT
DTSTART;TZID=US/Central:20101013T170000
DTEND;VALUE=DATE-TIME;TZID=US/Central:20101013T180000

DTSTAMP:20260424T222600Z
CREATED:20101010T173300Z
LAST-MODIFIED:20101011T145800Z
UID:20101013T170000-9061@law.utexas.edu
SUMMARY:TLVA Meeting at Posse East
DESCRIPTION:<p>The Texas Law Veterans Association is having a general meeting at Posse East at 5pm.  Come out and hear about the opportunities we will be offering this semester to help support our troops and our veterans. New members are welcome and encouraged to attend.</p>\n\nIf you need an accommodation to participate in this event, please contact the event sponsor or the Texas Law Special Events Office at specialevents@law.utexas.edu no later than seven business days prior to the event.
X-ALT-DESC;FMTTYPE=text/html:<p>The Texas Law Veterans Association is having a general meeting at Posse East at 5pm.  Come out and hear about the opportunities we will be offering this semester to help support our troops and our veterans. New members are welcome and encouraged to attend.</p><p>If you need an accommodation to participate in this event, please contact the event
                                          event sponsor or the Texas Law Special Events Office at <a href="mailto:specialevents@law.utexas.edu">specialevents@law.utexas.edu</a> no later than seven business days prior to the event.</p>
CATEGORIES:Meeting
LOCATION:Posse East (Corner of San Jacinto and Duval)
URL:http://law.utexas.edu/calendar/2010/10/13/9061/
CLASS:PUBLIC
STATUS:CONFIRMED
COMMENT:contact TexasLawVets@gmail.com
END:VEVENT
END:VCALENDAR