BEGIN:VCALENDAR
VERSION:2.0
PRODID:-//UNIVERSITY OF TEXAS SCHOOL OF LAW//NONSGML Events Calendar v1.0//EN
X-WR-TIMEZONE:America/Chicago
BEGIN:VTIMEZONE
TZID:US/Central
X-LIC-LOCATION:America/Chicago
BEGIN:DAYLIGHT
TZOFFSETFROM:-0600
TZOFFSETTO:-0500
TZNAME:CDT
DTSTART:19700308T020000
RRULE:FREQ=YEARLY;BYMONTH=3;BYDAY=2SU
END:DAYLIGHT
BEGIN:STANDARD
TZOFFSETFROM:-0500
TZOFFSETTO:-0600
TZNAME:CST
DTSTART:19701101T020000
RRULE:FREQ=YEARLY;BYMONTH=11;BYDAY=1SU
END:STANDARD
END:VTIMEZONE
BEGIN:VEVENT
DTSTART;TZID=US/Central:20101013T113000
DTEND;VALUE=DATE-TIME;TZID=US/Central:20101013T133000

DTSTAMP:20260424T222600Z
CREATED:20101011T160900Z
LAST-MODIFIED:20101011T161900Z
UID:20101013T113000-9081@law.utexas.edu
SUMMARY:SALDF New Member Sign Up
DESCRIPTION:<p>The Student Animal Legal Defense Fund (SALDF) is looking for new members! Stop by our table in the Atrium on Wednesday to sign up and find out what we are all about. Also, enter a raffle for a doggy gift basket and learn about our pet adoption reimbursement program</p>\n\nIf you need an accommodation to participate in this event, please contact the event sponsor or the Texas Law Special Events Office at specialevents@law.utexas.edu no later than seven business days prior to the event.
X-ALT-DESC;FMTTYPE=text/html:<p>The Student Animal Legal Defense Fund (SALDF) is looking for new members! Stop by our table in the Atrium on Wednesday to sign up and find out what we are all about. Also, enter a raffle for a doggy gift basket and learn about our pet adoption reimbursement program</p><p>If you need an accommodation to participate in this event, please contact the event
                                          event sponsor or the Texas Law Special Events Office at <a href="mailto:specialevents@law.utexas.edu">specialevents@law.utexas.edu</a> no later than seven business days prior to the event.</p>
CATEGORIES:Lunch
LOCATION:TNH 2.100 - Susman Godfrey Atrium
URL:http://law.utexas.edu/calendar/2010/10/13/9081/
CLASS:PUBLIC
STATUS:CONFIRMED

END:VEVENT
END:VCALENDAR