BEGIN:VCALENDAR
VERSION:2.0
PRODID:-//UNIVERSITY OF TEXAS SCHOOL OF LAW//NONSGML Events Calendar v1.0//EN
X-WR-TIMEZONE:America/Chicago
BEGIN:VTIMEZONE
TZID:US/Central
X-LIC-LOCATION:America/Chicago
BEGIN:DAYLIGHT
TZOFFSETFROM:-0600
TZOFFSETTO:-0500
TZNAME:CDT
DTSTART:19700308T020000
RRULE:FREQ=YEARLY;BYMONTH=3;BYDAY=2SU
END:DAYLIGHT
BEGIN:STANDARD
TZOFFSETFROM:-0500
TZOFFSETTO:-0600
TZNAME:CST
DTSTART:19701101T020000
RRULE:FREQ=YEARLY;BYMONTH=11;BYDAY=1SU
END:STANDARD
END:VTIMEZONE
BEGIN:VEVENT
DTSTART;TZID=US/Central:20101016
DTEND;TZID=US/Central:20101017
X-MICROSOFT-CDO-ALLDAYEVENT:TRUE
X-FUNAMBOL-ALLDAY:TRUE
DTSTAMP:20260424T222600Z
CREATED:20100921T160600Z
LAST-MODIFIED:20100921T164700Z
UID:20101016T000000-8928@law.utexas.edu
SUMMARY:Family Weekend Events
DESCRIPTION:<p>The School of Law invites the parents and family members of law students to UT Austin’s campus the weekend of October 15–October 17, 2010 for Family Weekend.  All of the UT Law events will take place on Saturday, October 16.  Enjoy a continental breakfast with other parents. Take a student-guided tour of the building. Professor Woolley will present a mock class.  Plan to attend the barbecue luncheon and interact with faculty, administrators, students, and their family members.</p>
  <p>8:30 – 9:30 a.m.: Welcome and Continental breakfast
  Susman Godfrey Atrium</p>
  <p>9:30–10:15 a.m.: Building Tour
  Leaving from Susman Godfrey Atrium</p>
  <p>10:30–11:15 a.m.: Mock Class with Professor Patrick Woolley</p>
  <p>11:30 p.m. –12:30 p.m.: Mock Trial
  Eidman Courtroom
  Presented by the Board of Advocates</p>
  <p>12:30 – 1:30 p.m.: Barbecue Luncheon
  Susman Godfrey Atrium
  $10 per family member, including UT Law students.</p>
  <p>
  Register for Family Weekend events at: <a href="http://www.texasparents.org/eventsawards_family_weekend.php">http://www.texasparents.org/eventsawards_family_weekend.php</a></p>
  <p>
  Contact: Brandi Weaver, Director of Student Services, The University of Texas School of Law 
  Office of Student Affairs, (512) 232-1145, bweaver@law.utexas.edu
  </p>\n\nIf you need an accommodation to participate in this event, please contact the event sponsor or the Texas Law Special Events Office at specialevents@law.utexas.edu no later than seven business days prior to the event.
X-ALT-DESC;FMTTYPE=text/html:<p>The School of Law invites the parents and family members of law students to UT Austin’s campus the weekend of October 15–October 17, 2010 for Family Weekend.  All of the UT Law events will take place on Saturday, October 16.  Enjoy a continental breakfast with other parents. Take a student-guided tour of the building. Professor Woolley will present a mock class.  Plan to attend the barbecue luncheon and interact with faculty, administrators, students, and their family members.</p>
  <p>8:30 – 9:30 a.m.: Welcome and Continental breakfast
  Susman Godfrey Atrium</p>
  <p>9:30–10:15 a.m.: Building Tour
  Leaving from Susman Godfrey Atrium</p>
  <p>10:30–11:15 a.m.: Mock Class with Professor Patrick Woolley</p>
  <p>11:30 p.m. –12:30 p.m.: Mock Trial
  Eidman Courtroom
  Presented by the Board of Advocates</p>
  <p>12:30 – 1:30 p.m.: Barbecue Luncheon
  Susman Godfrey Atrium
  $10 per family member, including UT Law students.</p>
  <p>
  Register for Family Weekend events at: <a href="http://www.texasparents.org/eventsawards_family_weekend.php">http://www.texasparents.org/eventsawards_family_weekend.php</a></p>
  <p>
  Contact: Brandi Weaver, Director of Student Services, The University of Texas School of Law 
  Office of Student Affairs, (512) 232-1145, bweaver@law.utexas.edu
  </p><p>If you need an accommodation to participate in this event, please contact the event
                                          event sponsor or the Texas Law Special Events Office at <a href="mailto:specialevents@law.utexas.edu">specialevents@law.utexas.edu</a> no later than seven business days prior to the event.</p>
CATEGORIES:Reception

URL:http://law.utexas.edu/calendar/2010/10/16/8928/
CLASS:PUBLIC
STATUS:CONFIRMED

END:VEVENT
END:VCALENDAR