BEGIN:VCALENDAR
VERSION:2.0
PRODID:-//UNIVERSITY OF TEXAS SCHOOL OF LAW//NONSGML Events Calendar v1.0//EN
X-WR-TIMEZONE:America/Chicago
BEGIN:VTIMEZONE
TZID:US/Central
X-LIC-LOCATION:America/Chicago
BEGIN:DAYLIGHT
TZOFFSETFROM:-0600
TZOFFSETTO:-0500
TZNAME:CDT
DTSTART:19700308T020000
RRULE:FREQ=YEARLY;BYMONTH=3;BYDAY=2SU
END:DAYLIGHT
BEGIN:STANDARD
TZOFFSETFROM:-0500
TZOFFSETTO:-0600
TZNAME:CST
DTSTART:19701101T020000
RRULE:FREQ=YEARLY;BYMONTH=11;BYDAY=1SU
END:STANDARD
END:VTIMEZONE
BEGIN:VEVENT
DTSTART;TZID=US/Central:20101020T113000
DTEND;VALUE=DATE-TIME;TZID=US/Central:20101020T130000

DTSTAMP:20260424T224200Z
CREATED:20101012T143600Z
LAST-MODIFIED:20101012T153500Z
UID:20101020T113000-9088@law.utexas.edu
SUMMARY:Human Rights Internship Info Session
DESCRIPTION:<p>The Rapoport Center hosts an information session for students interested in international and transnational human rights internships.  Come learn about internship and funding opportunities, hear from former interns, and find out how to apply.</p>\n\nIf you need an accommodation to participate in this event, please contact the event sponsor or the Texas Law Special Events Office at specialevents@law.utexas.edu no later than seven business days prior to the event.
X-ALT-DESC;FMTTYPE=text/html:<p>The Rapoport Center hosts an information session for students interested in international and transnational human rights internships.  Come learn about internship and funding opportunities, hear from former interns, and find out how to apply.</p><p>If you need an accommodation to participate in this event, please contact the event
                                          event sponsor or the Texas Law Special Events Office at <a href="mailto:specialevents@law.utexas.edu">specialevents@law.utexas.edu</a> no later than seven business days prior to the event.</p>
CATEGORIES:Other
LOCATION:TNH 2.114 - Francis Auditorium
URL:http://law.utexas.edu/calendar/2010/10/20/9088/
CLASS:PUBLIC
STATUS:CONFIRMED
COMMENT:Contact Sarah Cline: scline@law.utexas.edu or x24857
END:VEVENT
END:VCALENDAR