BEGIN:VCALENDAR
VERSION:2.0
PRODID:-//UNIVERSITY OF TEXAS SCHOOL OF LAW//NONSGML Events Calendar v1.0//EN
X-WR-TIMEZONE:America/Chicago
BEGIN:VTIMEZONE
TZID:US/Central
X-LIC-LOCATION:America/Chicago
BEGIN:DAYLIGHT
TZOFFSETFROM:-0600
TZOFFSETTO:-0500
TZNAME:CDT
DTSTART:19700308T020000
RRULE:FREQ=YEARLY;BYMONTH=3;BYDAY=2SU
END:DAYLIGHT
BEGIN:STANDARD
TZOFFSETFROM:-0500
TZOFFSETTO:-0600
TZNAME:CST
DTSTART:19701101T020000
RRULE:FREQ=YEARLY;BYMONTH=11;BYDAY=1SU
END:STANDARD
END:VTIMEZONE
BEGIN:VEVENT
DTSTART;TZID=US/Central:20101021T083000
DTEND;VALUE=DATE-TIME;TZID=US/Central:20101021T093000

DTSTAMP:20260424T222300Z
CREATED:20100830T160800Z
LAST-MODIFIED:20101018T205000Z
UID:20101021T083000-8840@law.utexas.edu
SUMMARY:ABA GPSolo Q&amp;A
DESCRIPTION:<p>The ABA General Practice, Solo &amp; Small Firm Division will host an informal panel discussion and question and answer session on Thursday, October 21 at 8:30 a.m. in the Sheffield Room. Attorneys will discuss solo and small firm practice, as well as how to get a job in a small firm. Panelists include Arthur Troilo III, Troilo Law Firm (Austin); Alan Fowler (Key West, FL);  Eileen Sullivan (Phoenix, AZ); Matthew Butler, Nicholas and Butler (San Diego, CA); and  Xavier Medina, Law Office of Xavier G. Medina ‘76, P.C.  (Austin). Joseph DeWoskin (Kansas City, MO), Chair of the ABA General Practice, Solo &amp; Small Firm Division will attend and introduce the panel. This is an excellent opportunity to meet attorneys from the local community as well as throughout the country. This is an excellent opportunity to meet attorneys from the local community as well as throughout the country. Breakfast tacos from Tacodeli will be served. Sponsored by the <a href="http://new.abanet.org/divisions/genpractice/Pages/default.aspx">ABA General Practice, Solo &amp; Small Firm Division</a>; co-sponsored by the <a href="http://www.utexas.edu/law/career">Career Services Office</a>, the <a href="http://www.utexas.edu/law/orgs/sba/SBA/Home.html">Student Bar Association</a>, and the Future Solo &amp; Small Firm Attorneys group. Please RSVP by Wednesday, October 20, on <a href="https://law-utexas-csm.symplicity.com/students/">UT Law Symplicity</a> by selecting the "Events" tab. </p>\n\nIf you need an accommodation to participate in this event, please contact the event sponsor or the Texas Law Special Events Office at specialevents@law.utexas.edu no later than seven business days prior to the event.
X-ALT-DESC;FMTTYPE=text/html:<p>The ABA General Practice, Solo &amp; Small Firm Division will host an informal panel discussion and question and answer session on Thursday, October 21 at 8:30 a.m. in the Sheffield Room. Attorneys will discuss solo and small firm practice, as well as how to get a job in a small firm. Panelists include Arthur Troilo III, Troilo Law Firm (Austin); Alan Fowler (Key West, FL);  Eileen Sullivan (Phoenix, AZ); Matthew Butler, Nicholas and Butler (San Diego, CA); and  Xavier Medina, Law Office of Xavier G. Medina ‘76, P.C.  (Austin). Joseph DeWoskin (Kansas City, MO), Chair of the ABA General Practice, Solo &amp; Small Firm Division will attend and introduce the panel. This is an excellent opportunity to meet attorneys from the local community as well as throughout the country. This is an excellent opportunity to meet attorneys from the local community as well as throughout the country. Breakfast tacos from Tacodeli will be served. Sponsored by the <a href="http://new.abanet.org/divisions/genpractice/Pages/default.aspx">ABA General Practice, Solo &amp; Small Firm Division</a>; co-sponsored by the <a href="http://www.utexas.edu/law/career">Career Services Office</a>, the <a href="http://www.utexas.edu/law/orgs/sba/SBA/Home.html">Student Bar Association</a>, and the Future Solo &amp; Small Firm Attorneys group. Please RSVP by Wednesday, October 20, on <a href="https://law-utexas-csm.symplicity.com/students/">UT Law Symplicity</a> by selecting the "Events" tab. </p><p>If you need an accommodation to participate in this event, please contact the event
                                          event sponsor or the Texas Law Special Events Office at <a href="mailto:specialevents@law.utexas.edu">specialevents@law.utexas.edu</a> no later than seven business days prior to the event.</p>
CATEGORIES:Panel Discussion / Speaker Series
LOCATION:TNH 2.111 - Sheffield-Massey Room
URL:http://law.utexas.edu/calendar/2010/10/21/8840/
CLASS:PUBLIC
STATUS:CONFIRMED
COMMENT:Please contact Simone Leavenworth in the CSO at 512-232-1157 or <a href="mailto:sleavenworth@law.utexas.edu">sleavenworth@law.utexas.edu</a>.
END:VEVENT
END:VCALENDAR