BEGIN:VCALENDAR
VERSION:2.0
PRODID:-//UNIVERSITY OF TEXAS SCHOOL OF LAW//NONSGML Events Calendar v1.0//EN
X-WR-TIMEZONE:America/Chicago
BEGIN:VTIMEZONE
TZID:US/Central
X-LIC-LOCATION:America/Chicago
BEGIN:DAYLIGHT
TZOFFSETFROM:-0600
TZOFFSETTO:-0500
TZNAME:CDT
DTSTART:19700308T020000
RRULE:FREQ=YEARLY;BYMONTH=3;BYDAY=2SU
END:DAYLIGHT
BEGIN:STANDARD
TZOFFSETFROM:-0500
TZOFFSETTO:-0600
TZNAME:CST
DTSTART:19701101T020000
RRULE:FREQ=YEARLY;BYMONTH=11;BYDAY=1SU
END:STANDARD
END:VTIMEZONE
BEGIN:VEVENT
DTSTART;TZID=US/Central:20101021T180000
DTEND;VALUE=DATE-TIME;TZID=US/Central:20101021T200000

DTSTAMP:20260424T222300Z
CREATED:20101011T213900Z
LAST-MODIFIED:20101013T142700Z
UID:20101021T180000-9086@law.utexas.edu
SUMMARY:TLF Auction
DESCRIPTION:<p>The Auction will be held on October 21st, from 6:00-8:00 p.m. at Cedar Street at 208 W. 4th Street.  Come join Texas Law Fellowships and bid on items to raise money for summer public interest funding for your classmates. Items in the past have included wine &amp; cheese with Dean Sager, beer tasting with Professor Emily Kadens, and dinners and happy hours with professors.  Silent auction items will also be available.  Open bar tab starts at 6 pm!</p>
  <p>Buy your tickets the week of October 18th in the Atrium for $10 or $15 at the door.</p>\n\nIf you need an accommodation to participate in this event, please contact the event sponsor or the Texas Law Special Events Office at specialevents@law.utexas.edu no later than seven business days prior to the event.
X-ALT-DESC;FMTTYPE=text/html:<p>The Auction will be held on October 21st, from 6:00-8:00 p.m. at Cedar Street at 208 W. 4th Street.  Come join Texas Law Fellowships and bid on items to raise money for summer public interest funding for your classmates. Items in the past have included wine &amp; cheese with Dean Sager, beer tasting with Professor Emily Kadens, and dinners and happy hours with professors.  Silent auction items will also be available.  Open bar tab starts at 6 pm!</p>
  <p>Buy your tickets the week of October 18th in the Atrium for $10 or $15 at the door.</p><p>If you need an accommodation to participate in this event, please contact the event
                                          event sponsor or the Texas Law Special Events Office at <a href="mailto:specialevents@law.utexas.edu">specialevents@law.utexas.edu</a> no later than seven business days prior to the event.</p>

LOCATION:Cedar Street
URL:http://law.utexas.edu/calendar/2010/10/21/9086/
CLASS:PUBLIC
STATUS:CONFIRMED
COMMENT:Please email Mariza Garza at marizagarza@gmail.com
END:VEVENT
END:VCALENDAR