BEGIN:VCALENDAR
VERSION:2.0
PRODID:-//UNIVERSITY OF TEXAS SCHOOL OF LAW//NONSGML Events Calendar v1.0//EN
X-WR-TIMEZONE:America/Chicago
BEGIN:VTIMEZONE
TZID:US/Central
X-LIC-LOCATION:America/Chicago
BEGIN:DAYLIGHT
TZOFFSETFROM:-0600
TZOFFSETTO:-0500
TZNAME:CDT
DTSTART:19700308T020000
RRULE:FREQ=YEARLY;BYMONTH=3;BYDAY=2SU
END:DAYLIGHT
BEGIN:STANDARD
TZOFFSETFROM:-0500
TZOFFSETTO:-0600
TZNAME:CST
DTSTART:19701101T020000
RRULE:FREQ=YEARLY;BYMONTH=11;BYDAY=1SU
END:STANDARD
END:VTIMEZONE
BEGIN:VEVENT
DTSTART;TZID=US/Central:20101022T113000
DTEND;VALUE=DATE-TIME;TZID=US/Central:20101022T123000

DTSTAMP:20260424T224100Z
CREATED:20101018T022400Z
LAST-MODIFIED:20101018T152700Z
UID:20101022T113000-9141@law.utexas.edu
SUMMARY:Assisted Reproductive Technologies Panel
DESCRIPTION:<p>Lunchtime Discussion on Assisted Reproductive Technologies</p>
  <p>Friday, October 22nd, 11:30-12:30pm, in the Fleming Room (in George’s Café). Lunch will be provided.</p>
  <p>Learn how Assisted Reproductive Technologies impact different communities, especially LGBQT parents, and what potential impact legal development in this area may have on the future of reproductive rights. Our panelists will discuss the legal intricacies of sperm/egg donation, surrogacy contracts, and Pre-Implantation Genetic Diagnosis.</p>
  <p>Professor John Robertson has written and lectured widely on law and bioethical issues. He is the author of Children of Choice: Freedom and the New Reproductive Technologies (1994), and numerous articles on reproductive rights and genetics. He has served on or been a consultant to many national bioethics advisory bodies, and is currently Chair of the Ethics Committee of the American Society for Reproductive Medicine.</p>
  <p>Karen Langsley has been a solo practitioner in Dripping Springs, Texas since 2004, doing primarily family law with a special focus on LGBTQ family law and Child Protective Services litigation.</p>
  <p>Dr. Stephanie Reich is an OB/GYN at Women Partners in Health. She provides women with gynecological and obstetrical care of all types, including high-risk obstetrics. </p>
  <p>Dr. Margaret Thompson has a private practice in Austin. During her medical career she has served as Chief OB-GYN and Member of the Medical Ethics Committee of Seton Hospital. She also has a JD from UT Law.</p>
  <p>Brought to you by: 
  Texas Law Students for Reproductive Justice and 
  Texas Journal of Women and the Law.
  Supported by Outlaw and the American Constitution Society.</p>\n\nIf you need an accommodation to participate in this event, please contact the event sponsor or the Texas Law Special Events Office at specialevents@law.utexas.edu no later than seven business days prior to the event.
X-ALT-DESC;FMTTYPE=text/html:<p>Lunchtime Discussion on Assisted Reproductive Technologies</p>
  <p>Friday, October 22nd, 11:30-12:30pm, in the Fleming Room (in George’s Café). Lunch will be provided.</p>
  <p>Learn how Assisted Reproductive Technologies impact different communities, especially LGBQT parents, and what potential impact legal development in this area may have on the future of reproductive rights. Our panelists will discuss the legal intricacies of sperm/egg donation, surrogacy contracts, and Pre-Implantation Genetic Diagnosis.</p>
  <p>Professor John Robertson has written and lectured widely on law and bioethical issues. He is the author of Children of Choice: Freedom and the New Reproductive Technologies (1994), and numerous articles on reproductive rights and genetics. He has served on or been a consultant to many national bioethics advisory bodies, and is currently Chair of the Ethics Committee of the American Society for Reproductive Medicine.</p>
  <p>Karen Langsley has been a solo practitioner in Dripping Springs, Texas since 2004, doing primarily family law with a special focus on LGBTQ family law and Child Protective Services litigation.</p>
  <p>Dr. Stephanie Reich is an OB/GYN at Women Partners in Health. She provides women with gynecological and obstetrical care of all types, including high-risk obstetrics. </p>
  <p>Dr. Margaret Thompson has a private practice in Austin. During her medical career she has served as Chief OB-GYN and Member of the Medical Ethics Committee of Seton Hospital. She also has a JD from UT Law.</p>
  <p>Brought to you by: 
  Texas Law Students for Reproductive Justice and 
  Texas Journal of Women and the Law.
  Supported by Outlaw and the American Constitution Society.</p><p>If you need an accommodation to participate in this event, please contact the event
                                          event sponsor or the Texas Law Special Events Office at <a href="mailto:specialevents@law.utexas.edu">specialevents@law.utexas.edu</a> no later than seven business days prior to the event.</p>
CATEGORIES:Panel Discussion / Speaker Series
LOCATION:
URL:http://law.utexas.edu/calendar/2010/10/22/9141/
CLASS:PUBLIC
STATUS:CONFIRMED

END:VEVENT
END:VCALENDAR