BEGIN:VCALENDAR
VERSION:2.0
PRODID:-//UNIVERSITY OF TEXAS SCHOOL OF LAW//NONSGML Events Calendar v1.0//EN
X-WR-TIMEZONE:America/Chicago
BEGIN:VTIMEZONE
TZID:US/Central
X-LIC-LOCATION:America/Chicago
BEGIN:DAYLIGHT
TZOFFSETFROM:-0600
TZOFFSETTO:-0500
TZNAME:CDT
DTSTART:19700308T020000
RRULE:FREQ=YEARLY;BYMONTH=3;BYDAY=2SU
END:DAYLIGHT
BEGIN:STANDARD
TZOFFSETFROM:-0500
TZOFFSETTO:-0600
TZNAME:CST
DTSTART:19701101T020000
RRULE:FREQ=YEARLY;BYMONTH=11;BYDAY=1SU
END:STANDARD
END:VTIMEZONE
BEGIN:VEVENT
DTSTART;TZID=US/Central:20101101T110000
DTEND;VALUE=DATE-TIME;TZID=US/Central:20101101T123000

DTSTAMP:20260424T194800Z
CREATED:20101029T191500Z
LAST-MODIFIED:20101029T201600Z
UID:20101101T110000-9421@law.utexas.edu
SUMMARY:9th Circuit Oral Arguments: US vs. AZ
DESCRIPTION:<p>Next Monday we will have a rare opportunity to watch the Ninth Circuit in action. </p>
  <p>Oral arguments in USA v. State of Arizona will be heard by a panel of three judges of the United States Court of Appeals for the Ninth Circuit on Monday, November 1, 2010. The panel has given consent for live broadcast of the proceeding and the School of Law will make this broadcast available in the Francis Auditorium, beginning at 11:00 a.m.</p>
  <p>The case involves the constitutionality of Arizona Senate Bill 1070, which requires state law enforcement officers to check a person’s immigration status under certain circumstances, and authorizes a warrantless arrest where there is probable cause to believe that the person has committed an offense making him or her removable from the United States. The U.S. Government, arguing that SB 1070 was preempted by federal statutes, sought a preliminary injunction to block enactment of the law. The preliminary injunction was granted in part and denied in part by the U.S. District Court for the District of Arizona. The State of Arizona and its governor have appealed, seeking to remove the injunction imposed by the district court on certain portions of SB 1070. </p>
  <p>The Ninth Circuit has posted all the briefs, including numerous amici curiae briefs, on the USA v. State of Arizona, No. 10-16645 page on their web site. </p>
  <p>Oral arguments are expected to last approximately one hour. Pizza will be served in the Francis Auditorium.</p>\n\nIf you need an accommodation to participate in this event, please contact the event sponsor or the Texas Law Special Events Office at specialevents@law.utexas.edu no later than seven business days prior to the event.
X-ALT-DESC;FMTTYPE=text/html:<p>Next Monday we will have a rare opportunity to watch the Ninth Circuit in action. </p>
  <p>Oral arguments in USA v. State of Arizona will be heard by a panel of three judges of the United States Court of Appeals for the Ninth Circuit on Monday, November 1, 2010. The panel has given consent for live broadcast of the proceeding and the School of Law will make this broadcast available in the Francis Auditorium, beginning at 11:00 a.m.</p>
  <p>The case involves the constitutionality of Arizona Senate Bill 1070, which requires state law enforcement officers to check a person’s immigration status under certain circumstances, and authorizes a warrantless arrest where there is probable cause to believe that the person has committed an offense making him or her removable from the United States. The U.S. Government, arguing that SB 1070 was preempted by federal statutes, sought a preliminary injunction to block enactment of the law. The preliminary injunction was granted in part and denied in part by the U.S. District Court for the District of Arizona. The State of Arizona and its governor have appealed, seeking to remove the injunction imposed by the district court on certain portions of SB 1070. </p>
  <p>The Ninth Circuit has posted all the briefs, including numerous amici curiae briefs, on the USA v. State of Arizona, No. 10-16645 page on their web site. </p>
  <p>Oral arguments are expected to last approximately one hour. Pizza will be served in the Francis Auditorium.</p><p>If you need an accommodation to participate in this event, please contact the event
                                          event sponsor or the Texas Law Special Events Office at <a href="mailto:specialevents@law.utexas.edu">specialevents@law.utexas.edu</a> no later than seven business days prior to the event.</p>
CATEGORIES:Other
LOCATION:TNH 2.114 - Francis Auditorium
URL:http://law.utexas.edu/calendar/2010/11/01/9421/
CLASS:PUBLIC
STATUS:CONFIRMED

END:VEVENT
END:VCALENDAR