BEGIN:VCALENDAR
VERSION:2.0
PRODID:-//UNIVERSITY OF TEXAS SCHOOL OF LAW//NONSGML Events Calendar v1.0//EN
X-WR-TIMEZONE:America/Chicago
BEGIN:VTIMEZONE
TZID:US/Central
X-LIC-LOCATION:America/Chicago
BEGIN:DAYLIGHT
TZOFFSETFROM:-0600
TZOFFSETTO:-0500
TZNAME:CDT
DTSTART:19700308T020000
RRULE:FREQ=YEARLY;BYMONTH=3;BYDAY=2SU
END:DAYLIGHT
BEGIN:STANDARD
TZOFFSETFROM:-0500
TZOFFSETTO:-0600
TZNAME:CST
DTSTART:19701101T020000
RRULE:FREQ=YEARLY;BYMONTH=11;BYDAY=1SU
END:STANDARD
END:VTIMEZONE
BEGIN:VEVENT
DTSTART;TZID=US/Central:20101101T190000
DTEND;VALUE=DATE-TIME;TZID=US/Central:20101102T000000

DTSTAMP:20260424T200000Z
CREATED:20101030T161500Z
LAST-MODIFIED:20101102T195700Z
UID:20101101T190000-9448@law.utexas.edu
SUMMARY:Spring 2011 Registration &amp; Adds/Drops
DESCRIPTION:<p>SPRING 2011 REGISTRATION &amp; ADDS/DROPS FOR CONTINUING AND READMITTED STUDENTS
  <a href="http://www.utexas.edu/law/sao/academics/registration.html">http://www.utexas.edu/law/sao/academics/registration.html</a></p>
  <p>The registration system (ROSE) opened on Monday, October 25, at 8 a.m. and will continue to open daily (during specific times) through Friday, November 5.  If you participated in early registration, you may make any changes to your Spring 2011 schedule via adds/drops during this registration period.  If you did not participate in early registration (or lost your awarded courses due to a bar), you may register during this period.</p>
  <p>For registration information, please use these links:</p>
  <p>Spring 2011 registration and add/drop access periods (<a href="http://www.utexas.edu/law/sao/academics/registration.html">http://www.utexas.edu/law/sao/academics/registration.html</a>)</p>
  <p>On-line registration system (<a href="https://utdirect.utexas.edu/registration/">https://utdirect.utexas.edu/registration/</a>)</p>
  <p>Spring 2011 course schedule (<a href="http://www.utexas.edu/law/sao/academics/courseschedules.html">http://www.utexas.edu/law/sao/academics/courseschedules.html</a>)</p>
  <p>Spring 2011 changes/updates (<a href="http://www.utexas.edu/law/sao/academics/schedules/112changes.pdf">http://www.utexas.edu/law/sao/academics/schedules/112changes.pdf</a>)</p>
  <p>Spring 2011 filled classes as of 10/22/2010 (<a href="http://www.utexas.edu/law/sao/academics/schedules/112filled.pdf">http://www.utexas.edu/law/sao/academics/schedules/112filled.pdf</a>)</p>\n\nIf you need an accommodation to participate in this event, please contact the event sponsor or the Texas Law Special Events Office at specialevents@law.utexas.edu no later than seven business days prior to the event.
X-ALT-DESC;FMTTYPE=text/html:<p>SPRING 2011 REGISTRATION &amp; ADDS/DROPS FOR CONTINUING AND READMITTED STUDENTS
  <a href="http://www.utexas.edu/law/sao/academics/registration.html">http://www.utexas.edu/law/sao/academics/registration.html</a></p>
  <p>The registration system (ROSE) opened on Monday, October 25, at 8 a.m. and will continue to open daily (during specific times) through Friday, November 5.  If you participated in early registration, you may make any changes to your Spring 2011 schedule via adds/drops during this registration period.  If you did not participate in early registration (or lost your awarded courses due to a bar), you may register during this period.</p>
  <p>For registration information, please use these links:</p>
  <p>Spring 2011 registration and add/drop access periods (<a href="http://www.utexas.edu/law/sao/academics/registration.html">http://www.utexas.edu/law/sao/academics/registration.html</a>)</p>
  <p>On-line registration system (<a href="https://utdirect.utexas.edu/registration/">https://utdirect.utexas.edu/registration/</a>)</p>
  <p>Spring 2011 course schedule (<a href="http://www.utexas.edu/law/sao/academics/courseschedules.html">http://www.utexas.edu/law/sao/academics/courseschedules.html</a>)</p>
  <p>Spring 2011 changes/updates (<a href="http://www.utexas.edu/law/sao/academics/schedules/112changes.pdf">http://www.utexas.edu/law/sao/academics/schedules/112changes.pdf</a>)</p>
  <p>Spring 2011 filled classes as of 10/22/2010 (<a href="http://www.utexas.edu/law/sao/academics/schedules/112filled.pdf">http://www.utexas.edu/law/sao/academics/schedules/112filled.pdf</a>)</p><p>If you need an accommodation to participate in this event, please contact the event
                                          event sponsor or the Texas Law Special Events Office at <a href="mailto:specialevents@law.utexas.edu">specialevents@law.utexas.edu</a> no later than seven business days prior to the event.</p>


URL:http://law.utexas.edu/calendar/2010/11/01/9448/
CLASS:PUBLIC
STATUS:CONFIRMED
COMMENT:Email Student Affairs (studentaffairs@law.utexas.edu).
END:VEVENT
END:VCALENDAR