BEGIN:VCALENDAR
VERSION:2.0
PRODID:-//UNIVERSITY OF TEXAS SCHOOL OF LAW//NONSGML Events Calendar v1.0//EN
X-WR-TIMEZONE:America/Chicago
BEGIN:VTIMEZONE
TZID:US/Central
X-LIC-LOCATION:America/Chicago
BEGIN:DAYLIGHT
TZOFFSETFROM:-0600
TZOFFSETTO:-0500
TZNAME:CDT
DTSTART:19700308T020000
RRULE:FREQ=YEARLY;BYMONTH=3;BYDAY=2SU
END:DAYLIGHT
BEGIN:STANDARD
TZOFFSETFROM:-0500
TZOFFSETTO:-0600
TZNAME:CST
DTSTART:19701101T020000
RRULE:FREQ=YEARLY;BYMONTH=11;BYDAY=1SU
END:STANDARD
END:VTIMEZONE
BEGIN:VEVENT
DTSTART;TZID=US/Central:20101103T083000
DTEND;VALUE=DATE-TIME;TZID=US/Central:20101103T163000

DTSTAMP:20260424T195200Z
CREATED:20101019T214800Z
LAST-MODIFIED:20101020T191300Z
UID:20101103T083000-9163@law.utexas.edu
SUMMARY:Fingerprint Sessions for All Students
DESCRIPTION:<p> <strong>All students (including late-filers) who recently submitted their Texas "Declaration of Intention to Study Law" are eligible to have their fingerprints taken on location at the University of Texas School of Law.</strong></p>
  <p><strong>Space is limited and available on a first-registered basis, so interested students are encouraged to register immediately. Qualifying students who wish to participate in this event must follow the <a href="https://www.utexas.edu/law/sao/studentservices/events/flyer.pdf">registration instructions</a> and have their <a href="http://www.ble.state.tx.us/fpc/fast_form_0209.pdf">FAST form</a> filled out and on hand. Only pre-registered students will be admitted.</strong></p>
  <p><strong>The absolute pre-registration deadline is Tuesday, November 2nd at 3 PM.</strong></p>\n\nIf you need an accommodation to participate in this event, please contact the event sponsor or the Texas Law Special Events Office at specialevents@law.utexas.edu no later than seven business days prior to the event.
X-ALT-DESC;FMTTYPE=text/html:<p> <strong>All students (including late-filers) who recently submitted their Texas "Declaration of Intention to Study Law" are eligible to have their fingerprints taken on location at the University of Texas School of Law.</strong></p>
  <p><strong>Space is limited and available on a first-registered basis, so interested students are encouraged to register immediately. Qualifying students who wish to participate in this event must follow the <a href="https://www.utexas.edu/law/sao/studentservices/events/flyer.pdf">registration instructions</a> and have their <a href="http://www.ble.state.tx.us/fpc/fast_form_0209.pdf">FAST form</a> filled out and on hand. Only pre-registered students will be admitted.</strong></p>
  <p><strong>The absolute pre-registration deadline is Tuesday, November 2nd at 3 PM.</strong></p><p>If you need an accommodation to participate in this event, please contact the event
                                          event sponsor or the Texas Law Special Events Office at <a href="mailto:specialevents@law.utexas.edu">specialevents@law.utexas.edu</a> no later than seven business days prior to the event.</p>

LOCATION:TNH 2.100 - Susman Godfrey Atrium
URL:http://law.utexas.edu/calendar/2010/11/03/9163/
CLASS:PUBLIC
STATUS:CONFIRMED

END:VEVENT
END:VCALENDAR