BEGIN:VCALENDAR
VERSION:2.0
PRODID:-//UNIVERSITY OF TEXAS SCHOOL OF LAW//NONSGML Events Calendar v1.0//EN
X-WR-TIMEZONE:America/Chicago
BEGIN:VTIMEZONE
TZID:US/Central
X-LIC-LOCATION:America/Chicago
BEGIN:DAYLIGHT
TZOFFSETFROM:-0600
TZOFFSETTO:-0500
TZNAME:CDT
DTSTART:19700308T020000
RRULE:FREQ=YEARLY;BYMONTH=3;BYDAY=2SU
END:DAYLIGHT
BEGIN:STANDARD
TZOFFSETFROM:-0500
TZOFFSETTO:-0600
TZNAME:CST
DTSTART:19701101T020000
RRULE:FREQ=YEARLY;BYMONTH=11;BYDAY=1SU
END:STANDARD
END:VTIMEZONE
BEGIN:VEVENT
DTSTART;TZID=US/Central:20101103T104500
DTEND;VALUE=DATE-TIME;TZID=US/Central:20101103T114500

DTSTAMP:20260424T200000Z
CREATED:20101102T153900Z
LAST-MODIFIED:20101102T153900Z
UID:20101103T104500-9484@law.utexas.edu
SUMMARY:Texas AG–Antitrust Div. Internships
DESCRIPTION:<p>Gabriel Gervey and Kim Van Winkle of the <a href="https://www.oag.state.tx.us/consumer/antitrust.shtml"> Texas Attorney General’s Office</a> will discuss internship opportunities available in the spring.  Four of these internships will be available for academic credit. Coffee will be served.  Please RSVP by Tuesday, November 2, on <a href="https://law-utexas-csm.symplicity.com/students/">UT Law Symplicity</a> by selecting the "Events" tab.</p>\n\nIf you need an accommodation to participate in this event, please contact the event sponsor or the Texas Law Special Events Office at specialevents@law.utexas.edu no later than seven business days prior to the event.
X-ALT-DESC;FMTTYPE=text/html:<p>Gabriel Gervey and Kim Van Winkle of the <a href="https://www.oag.state.tx.us/consumer/antitrust.shtml"> Texas Attorney General’s Office</a> will discuss internship opportunities available in the spring.  Four of these internships will be available for academic credit. Coffee will be served.  Please RSVP by Tuesday, November 2, on <a href="https://law-utexas-csm.symplicity.com/students/">UT Law Symplicity</a> by selecting the "Events" tab.</p><p>If you need an accommodation to participate in this event, please contact the event
                                          event sponsor or the Texas Law Special Events Office at <a href="mailto:specialevents@law.utexas.edu">specialevents@law.utexas.edu</a> no later than seven business days prior to the event.</p>
CATEGORIES:Meeting
LOCATION:Career Services Interview Suite
URL:http://law.utexas.edu/calendar/2010/11/03/9484/
CLASS:PUBLIC
STATUS:CONFIRMED
COMMENT:Please contact Denyse Demel  at <a href="mailto:ddemel@law.utexas.edu">ddemel@law.utexas.edu</a> in the CSO.
END:VEVENT
END:VCALENDAR