BEGIN:VCALENDAR
VERSION:2.0
PRODID:-//UNIVERSITY OF TEXAS SCHOOL OF LAW//NONSGML Events Calendar v1.0//EN
X-WR-TIMEZONE:America/Chicago
BEGIN:VTIMEZONE
TZID:US/Central
X-LIC-LOCATION:America/Chicago
BEGIN:DAYLIGHT
TZOFFSETFROM:-0600
TZOFFSETTO:-0500
TZNAME:CDT
DTSTART:19700308T020000
RRULE:FREQ=YEARLY;BYMONTH=3;BYDAY=2SU
END:DAYLIGHT
BEGIN:STANDARD
TZOFFSETFROM:-0500
TZOFFSETTO:-0600
TZNAME:CST
DTSTART:19701101T020000
RRULE:FREQ=YEARLY;BYMONTH=11;BYDAY=1SU
END:STANDARD
END:VTIMEZONE
BEGIN:VEVENT
DTSTART;TZID=US/Central:20101104T140000
DTEND;VALUE=DATE-TIME;TZID=US/Central:20101104T150000

DTSTAMP:20260424T200000Z
CREATED:20101029T213400Z
LAST-MODIFIED:20101029T213500Z
UID:20101104T140000-9423@law.utexas.edu
SUMMARY:Student Org Rep Mtg
DESCRIPTION:<p>Dean Ramos will meet with authorized representatives from registered student organizations.  The meeting will be held in TNH 2.123 from 2-3 pm on Thursday, November 4.</p>\n\nIf you need an accommodation to participate in this event, please contact the event sponsor or the Texas Law Special Events Office at specialevents@law.utexas.edu no later than seven business days prior to the event.
X-ALT-DESC;FMTTYPE=text/html:<p>Dean Ramos will meet with authorized representatives from registered student organizations.  The meeting will be held in TNH 2.123 from 2-3 pm on Thursday, November 4.</p><p>If you need an accommodation to participate in this event, please contact the event
                                          event sponsor or the Texas Law Special Events Office at <a href="mailto:specialevents@law.utexas.edu">specialevents@law.utexas.edu</a> no later than seven business days prior to the event.</p>
CATEGORIES:Meeting
LOCATION:TNH 2.123 - Beck Classroom
URL:http://law.utexas.edu/calendar/2010/11/04/9423/
CLASS:PUBLIC
STATUS:CONFIRMED

END:VEVENT
END:VCALENDAR